[dpdk-test-report] |SUCCESS| pw66214 [PATCH] lpm6: make IPv6	addresses immutable
    dpdklab at iol.unh.edu 
    dpdklab at iol.unh.edu
       
    Tue Mar  3 14:50:45 CET 2020
    
    
  
Test-Label: iol-testing
Test-Status: SUCCESS
http://dpdk.org/patch/66214
_Testing PASS_
Submitter: Andrzej Ostruszka <aostruszka at marvell.com>
Date: Tuesday, March 03 2020 12:53:45 
DPDK git baseline: Repo:dpdk
  Branch: master
  CommitID:974c8a9d2e97225767a7925f238dc60395ca6787
66214 --> testing pass
Test environment and result as below:
+---------------------+--------------------+-------------------+------------------+--------------+----------------+
|     Environment     | dpdk_meson_compile | dpdk_compile_spdk | dpdk_compile_ovs | dpdk_compile | dpdk_unit_test |
+=====================+====================+===================+==================+==============+================+
| Windows Server 2019 | PASS               | SKIPPED           | SKIPPED          | SKIPPED      | SKIPPED        |
+---------------------+--------------------+-------------------+------------------+--------------+----------------+
| Fedora 31           | PASS               | PASS              | PASS             | PASS         | SKIPPED        |
+---------------------+--------------------+-------------------+------------------+--------------+----------------+
| Ubuntu 18.04        | PASS               | PASS              | PASS             | PASS         | PASS           |
+---------------------+--------------------+-------------------+------------------+--------------+----------------+
| CentOS 8            | PASS               | PASS              | PASS             | PASS         | SKIPPED        |
+---------------------+--------------------+-------------------+------------------+--------------+----------------+
| openSUSE Leap 15    | PASS               | PASS              | PASS             | PASS         | SKIPPED        |
+---------------------+--------------------+-------------------+------------------+--------------+----------------+
| FreeBSD 11.2        | PASS               | PASS              | SKIPPED          | PASS         | SKIPPED        |
+---------------------+--------------------+-------------------+------------------+--------------+----------------+
| Arch Linux          | PASS               | SKIPPED           | PASS             | PASS         | SKIPPED        |
+---------------------+--------------------+-------------------+------------------+--------------+----------------+
Windows Server 2019
	Kernel: 10.0
	Compiler: clang 9.0
Fedora 31
	Kernel: 5.3.16
	Compiler: gcc 9.2.1
Ubuntu 18.04
	Kernel: 4.15.0-generic
	Compiler: gcc 7.4
CentOS 8
	Kernel: 4.18.0.el8_0
	Compiler: gcc 8.3.1
openSUSE Leap 15
	Kernel: 4.12.14
	Compiler: gcc 7.4.1
FreeBSD 11.2
	Kernel: 11.2
	Compiler: gcc 8.3
Arch Linux
	Kernel: latest
	Compiler: gcc latest
To view detailed results, visit:
https://lab.dpdk.org/results/dashboard/patchsets/9825/
UNH-IOL DPDK Community Lab
To manage your email subscriptions, visit: 
https://lab.dpdk.org/results/dashboard/preferences/subscriptions/
    
    
More information about the test-report
mailing list