[dpdk-test-report] |SUCCESS| [GIT MASTER]	1ed7209833945bdc0d6643837c6276758a0af409
    dpdklab at iol.unh.edu 
    dpdklab at iol.unh.edu
       
    Wed Mar  4 21:02:44 CET 2020
    
    
  
_Testing PASS_
Branch: dpdk-next-net
1ed7209833945bdc0d6643837c6276758a0af409 --> testing pass
Test environment and result as below:
+---------------------+--------------------+-------------------+--------------+----------------+------------------+
|     Environment     | dpdk_meson_compile | dpdk_compile_spdk | dpdk_compile | dpdk_unit_test | dpdk_compile_ovs |
+=====================+====================+===================+==============+================+==================+
| Windows Server 2019 | PASS               | SKIPPED           | SKIPPED      | SKIPPED        | SKIPPED          |
+---------------------+--------------------+-------------------+--------------+----------------+------------------+
| Fedora 31           | PASS               | PASS              | PASS         | SKIPPED        | PASS             |
+---------------------+--------------------+-------------------+--------------+----------------+------------------+
| openSUSE Leap 15    | PASS               | PASS              | PASS         | SKIPPED        | PASS             |
+---------------------+--------------------+-------------------+--------------+----------------+------------------+
| Ubuntu 18.04        | PASS               | PASS              | PASS         | PASS           | PASS             |
+---------------------+--------------------+-------------------+--------------+----------------+------------------+
| CentOS 8            | PASS               | PASS              | PASS         | SKIPPED        | PASS             |
+---------------------+--------------------+-------------------+--------------+----------------+------------------+
| FreeBSD 11.2        | PASS               | PASS              | PASS         | SKIPPED        | SKIPPED          |
+---------------------+--------------------+-------------------+--------------+----------------+------------------+
| Arch Linux          | PASS               | SKIPPED           | PASS         | SKIPPED        | PASS             |
+---------------------+--------------------+-------------------+--------------+----------------+------------------+
Windows Server 2019
	Kernel: 10.0
	Compiler: clang 9.0
Fedora 31
	Kernel: 5.3.16
	Compiler: gcc 9.2.1
openSUSE Leap 15
	Kernel: 4.12.14
	Compiler: gcc 7.4.1
Ubuntu 18.04
	Kernel: 4.15.0-generic
	Compiler: gcc 7.4
CentOS 8
	Kernel: 4.18.0.el8_0
	Compiler: gcc 8.3.1
FreeBSD 11.2
	Kernel: 11.2
	Compiler: gcc 8.3
Arch Linux
	Kernel: latest
	Compiler: gcc latest
To view detailed results, visit:
https://lab.dpdk.org/results/dashboard/tarballs/8397/
UNH-IOL DPDK Community Lab
To manage your email subscriptions, visit: 
https://lab.dpdk.org/results/dashboard/preferences/subscriptions/
    
    
More information about the test-report
mailing list