[dpdk-test-report] |SUCCESS| pw66344 [PATCH] common/octeontx2:	upgrade mbox definition to version 5
    dpdklab at iol.unh.edu 
    dpdklab at iol.unh.edu
       
    Fri Mar  6 15:58:40 CET 2020
    
    
  
Test-Label: iol-testing
Test-Status: SUCCESS
http://dpdk.org/patch/66344
_Testing PASS_
Submitter: Nithin Dabilpuram <ndabilpuram at marvell.com>
Date: Friday, March 06 2020 13:44:05 
DPDK git baseline: Repo:dpdk
  Branch: master
  CommitID:f3dd46b8603fcd2ed43be38fec8add255c06b026
66344 --> testing pass
Test environment and result as below:
+---------------------+--------------------+-------------------+--------------+------------------+----------------+
|     Environment     | dpdk_meson_compile | dpdk_compile_spdk | dpdk_compile | dpdk_compile_ovs | dpdk_unit_test |
+=====================+====================+===================+==============+==================+================+
| Windows Server 2019 | PASS               | SKIPPED           | SKIPPED      | SKIPPED          | SKIPPED        |
+---------------------+--------------------+-------------------+--------------+------------------+----------------+
| Fedora 31           | PASS               | PASS              | PASS         | PASS             | SKIPPED        |
+---------------------+--------------------+-------------------+--------------+------------------+----------------+
| openSUSE Leap 15    | PASS               | PASS              | PASS         | PASS             | SKIPPED        |
+---------------------+--------------------+-------------------+--------------+------------------+----------------+
| Ubuntu 18.04        | PASS               | PASS              | PASS         | PASS             | PASS           |
+---------------------+--------------------+-------------------+--------------+------------------+----------------+
| CentOS 8            | PASS               | PASS              | PASS         | PASS             | SKIPPED        |
+---------------------+--------------------+-------------------+--------------+------------------+----------------+
| FreeBSD 11.2        | PASS               | PASS              | PASS         | SKIPPED          | SKIPPED        |
+---------------------+--------------------+-------------------+--------------+------------------+----------------+
| Arch Linux          | PASS               | SKIPPED           | PASS         | PASS             | SKIPPED        |
+---------------------+--------------------+-------------------+--------------+------------------+----------------+
Windows Server 2019
	Kernel: 10.0
	Compiler: clang 9.0
Fedora 31
	Kernel: 5.3.16
	Compiler: gcc 9.2.1
openSUSE Leap 15
	Kernel: 4.12.14
	Compiler: gcc 7.4.1
Ubuntu 18.04
	Kernel: 4.15.0-generic
	Compiler: gcc 7.4
CentOS 8
	Kernel: 4.18.0.el8_0
	Compiler: gcc 8.3.1
FreeBSD 11.2
	Kernel: 11.2
	Compiler: gcc 8.3
Arch Linux
	Kernel: latest
	Compiler: gcc latest
To view detailed results, visit:
https://lab.dpdk.org/results/dashboard/patchsets/9878/
UNH-IOL DPDK Community Lab
To manage your email subscriptions, visit: 
https://lab.dpdk.org/results/dashboard/preferences/subscriptions/
    
    
More information about the test-report
mailing list