[dpdk-test-report] |SUCCESS| pw66418-66445 [PATCH] [01/28] net/ice/base: fix uninitialized stack variables

dpdklab at iol.unh.edu dpdklab at iol.unh.edu
Mon Mar 9 20:23:55 CET 2020


Test-Label: iol-testing
Test-Status: SUCCESS
http://dpdk.org/patch/66418

_Testing PASS_

Submitter: Qi Zhang <qi.z.zhang at intel.com>
Date: Monday, March 09 2020 11:43:30 
DPDK git baseline: Repo:dpdk
  Branch: master
  CommitID:44c775feb491106d472c1a44433c6427a3fb3b3b

66418-66445 --> testing pass

Test environment and result as below:

+---------------------+--------------------+--------------+------------------+-------------------+----------------+
|     Environment     | dpdk_meson_compile | dpdk_compile | dpdk_compile_ovs | dpdk_compile_spdk | dpdk_unit_test |
+=====================+====================+==============+==================+===================+================+
| Windows Server 2019 | PASS               | SKIPPED      | SKIPPED          | SKIPPED           | SKIPPED        |
+---------------------+--------------------+--------------+------------------+-------------------+----------------+
| Ubuntu 18.04        | PASS               | PASS         | PASS             | PASS              | PASS           |
+---------------------+--------------------+--------------+------------------+-------------------+----------------+
| Fedora 31           | PASS               | PASS         | PASS             | PASS              | SKIPPED        |
+---------------------+--------------------+--------------+------------------+-------------------+----------------+
| CentOS 8            | PASS               | PASS         | PASS             | PASS              | SKIPPED        |
+---------------------+--------------------+--------------+------------------+-------------------+----------------+
| openSUSE Leap 15    | PASS               | PASS         | PASS             | PASS              | SKIPPED        |
+---------------------+--------------------+--------------+------------------+-------------------+----------------+
| FreeBSD 11.2        | PASS               | PASS         | SKIPPED          | PASS              | SKIPPED        |
+---------------------+--------------------+--------------+------------------+-------------------+----------------+
| Arch Linux          | PASS               | PASS         | PASS             | SKIPPED           | SKIPPED        |
+---------------------+--------------------+--------------+------------------+-------------------+----------------+

Windows Server 2019
	Kernel: 10.0
	Compiler: clang 9.0

Ubuntu 18.04
	Kernel: 4.15.0-generic
	Compiler: gcc 7.4

Fedora 31
	Kernel: 5.3.16
	Compiler: gcc 9.2.1

CentOS 8
	Kernel: 4.18.0.el8_0
	Compiler: gcc 8.3.1

openSUSE Leap 15
	Kernel: 4.12.14
	Compiler: gcc 7.4.1

FreeBSD 11.2
	Kernel: 11.2
	Compiler: gcc 8.3

Arch Linux
	Kernel: latest
	Compiler: gcc latest

To view detailed results, visit:
https://lab.dpdk.org/results/dashboard/patchsets/9906/

UNH-IOL DPDK Community Lab

To manage your email subscriptions, visit: 
https://lab.dpdk.org/results/dashboard/preferences/subscriptions/


More information about the test-report mailing list