[dpdk-test-report] |SUCCESS| pw66479 [PATCH] lib/librte_net/rte_ether.h:changed RTE_ETHER_MAX_LEN

dpdklab at iol.unh.edu dpdklab at iol.unh.edu
Tue Mar 10 08:54:31 CET 2020


Test-Label: iol-testing
Test-Status: SUCCESS
http://dpdk.org/patch/66479

_Testing PASS_

Submitter: Muhammad Ahmad <muhammad.ahmad at emumba.com>
Date: Tuesday, March 10 2020 06:50:36 
DPDK git baseline: Repo:dpdk
  Branch: master
  CommitID:44c775feb491106d472c1a44433c6427a3fb3b3b

66479 --> testing pass

Test environment and result as below:

+---------------------+--------------------+-------------------+--------------+----------------+------------------+
|     Environment     | dpdk_meson_compile | dpdk_compile_spdk | dpdk_compile | dpdk_unit_test | dpdk_compile_ovs |
+=====================+====================+===================+==============+================+==================+
| Windows Server 2019 | PASS               | SKIPPED           | SKIPPED      | SKIPPED        | SKIPPED          |
+---------------------+--------------------+-------------------+--------------+----------------+------------------+
| Fedora 31           | PASS               | PASS              | PASS         | SKIPPED        | PASS             |
+---------------------+--------------------+-------------------+--------------+----------------+------------------+
| Ubuntu 18.04        | PASS               | PASS              | PASS         | PASS           | PASS             |
+---------------------+--------------------+-------------------+--------------+----------------+------------------+
| CentOS 8            | PASS               | PASS              | PASS         | SKIPPED        | PASS             |
+---------------------+--------------------+-------------------+--------------+----------------+------------------+
| openSUSE Leap 15    | PASS               | PASS              | PASS         | SKIPPED        | PASS             |
+---------------------+--------------------+-------------------+--------------+----------------+------------------+
| FreeBSD 11.2        | PASS               | PASS              | PASS         | SKIPPED        | SKIPPED          |
+---------------------+--------------------+-------------------+--------------+----------------+------------------+
| Arch Linux          | PASS               | SKIPPED           | PASS         | SKIPPED        | PASS             |
+---------------------+--------------------+-------------------+--------------+----------------+------------------+

Windows Server 2019
	Kernel: 10.0
	Compiler: clang 9.0

Fedora 31
	Kernel: 5.3.16
	Compiler: gcc 9.2.1

Ubuntu 18.04
	Kernel: 4.15.0-generic
	Compiler: gcc 7.4

CentOS 8
	Kernel: 4.18.0.el8_0
	Compiler: gcc 8.3.1

openSUSE Leap 15
	Kernel: 4.12.14
	Compiler: gcc 7.4.1

FreeBSD 11.2
	Kernel: 11.2
	Compiler: gcc 8.3

Arch Linux
	Kernel: latest
	Compiler: gcc latest

To view detailed results, visit:
https://lab.dpdk.org/results/dashboard/patchsets/9921/

UNH-IOL DPDK Community Lab

To manage your email subscriptions, visit: 
https://lab.dpdk.org/results/dashboard/preferences/subscriptions/


More information about the test-report mailing list