[dpdk-test-report] |SUCCESS| pw66700 [PATCH] testpmd: added rte_eth_dev_fw_version_get in testpmd rte_eth_dev_fw_version_get() was not called in test pmd. Added rte_eth_dev_fw_version_get() in testpmd under show port info <port no>

dpdklab at iol.unh.edu dpdklab at iol.unh.edu
Mon Mar 16 13:35:52 CET 2020


Test-Label: iol-testing
Test-Status: SUCCESS
http://dpdk.org/patch/66700

_Testing PASS_

Submitter: Muhammad Ahmad <muhammad.ahmad at emumba.com>
Date: Monday, March 16 2020 10:07:54 
DPDK git baseline: Repo:dpdk
  Branch: master
  CommitID:341a793eb193a104c571172e724a98b2552c55cf

66700 --> testing pass

Test environment and result as below:

+---------------------+--------------------+-------------------+--------------+------------------+----------------+
|     Environment     | dpdk_meson_compile | dpdk_compile_spdk | dpdk_compile | dpdk_compile_ovs | dpdk_unit_test |
+=====================+====================+===================+==============+==================+================+
| Windows Server 2019 | PASS               | SKIPPED           | SKIPPED      | SKIPPED          | SKIPPED        |
+---------------------+--------------------+-------------------+--------------+------------------+----------------+
| Fedora 31           | PASS               | PASS              | PASS         | PASS             | SKIPPED        |
+---------------------+--------------------+-------------------+--------------+------------------+----------------+
| CentOS 8            | PASS               | PASS              | PASS         | PASS             | SKIPPED        |
+---------------------+--------------------+-------------------+--------------+------------------+----------------+
| Ubuntu 18.04        | PASS               | PASS              | PASS         | PASS             | PASS           |
+---------------------+--------------------+-------------------+--------------+------------------+----------------+
| openSUSE Leap 15    | PASS               | PASS              | PASS         | PASS             | SKIPPED        |
+---------------------+--------------------+-------------------+--------------+------------------+----------------+
| FreeBSD 11.2        | PASS               | PASS              | PASS         | SKIPPED          | SKIPPED        |
+---------------------+--------------------+-------------------+--------------+------------------+----------------+
| Arch Linux          | PASS               | SKIPPED           | PASS         | PASS             | SKIPPED        |
+---------------------+--------------------+-------------------+--------------+------------------+----------------+

Windows Server 2019
	Kernel: 10.0
	Compiler: clang 9.0

Fedora 31
	Kernel: 5.3.16
	Compiler: gcc 9.2.1

CentOS 8
	Kernel: 4.18.0.el8_0
	Compiler: gcc 8.3.1

Ubuntu 18.04
	Kernel: 4.15.0-generic
	Compiler: gcc 7.4

openSUSE Leap 15
	Kernel: 4.12.14
	Compiler: gcc 7.4.1

FreeBSD 11.2
	Kernel: 11.2
	Compiler: gcc 8.3

Arch Linux
	Kernel: latest
	Compiler: gcc latest

To view detailed results, visit:
https://lab.dpdk.org/results/dashboard/patchsets/9987/

UNH-IOL DPDK Community Lab

To manage your email subscriptions, visit: 
https://lab.dpdk.org/results/dashboard/preferences/subscriptions/


More information about the test-report mailing list