[dpdk-test-report] |SUCCESS| pw67396 [PATCH] net/ice: support flow	redirect function
    dpdklab at iol.unh.edu 
    dpdklab at iol.unh.edu
       
    Mon Mar 30 11:41:05 CEST 2020
    
    
  
Test-Label: iol-testing
Test-Status: SUCCESS
http://dpdk.org/patch/67396
_Testing PASS_
Submitter: Beilei Xing <beilei.xing at intel.com>
Date: Monday, March 30 2020 16:37:51 
DPDK git baseline: Repo:dpdk
  Branch: master
  CommitID:ffcf831454a93c1da54299d4066dd03de6712a9b
67396 --> testing pass
Test environment and result as below:
+---------------------+--------------------+--------------+----------------+------------------+-------------------+
|     Environment     | dpdk_meson_compile | dpdk_compile | dpdk_unit_test | dpdk_compile_ovs | dpdk_compile_spdk |
+=====================+====================+==============+================+==================+===================+
| Windows Server 2019 | PASS               | SKIPPED      | SKIPPED        | SKIPPED          | SKIPPED           |
+---------------------+--------------------+--------------+----------------+------------------+-------------------+
| Ubuntu 18.04        | PASS               | PASS         | PASS           | PASS             | PASS              |
+---------------------+--------------------+--------------+----------------+------------------+-------------------+
| CentOS 8            | PASS               | PASS         | SKIPPED        | PASS             | PASS              |
+---------------------+--------------------+--------------+----------------+------------------+-------------------+
| Fedora 31           | PASS               | PASS         | SKIPPED        | PASS             | PASS              |
+---------------------+--------------------+--------------+----------------+------------------+-------------------+
| openSUSE Leap 15    | PASS               | PASS         | SKIPPED        | PASS             | PASS              |
+---------------------+--------------------+--------------+----------------+------------------+-------------------+
| Arch Linux          | PASS               | PASS         | SKIPPED        | PASS             | SKIPPED           |
+---------------------+--------------------+--------------+----------------+------------------+-------------------+
| FreeBSD 11.2        | PASS               | PASS         | SKIPPED        | SKIPPED          | PASS              |
+---------------------+--------------------+--------------+----------------+------------------+-------------------+
Windows Server 2019
	Kernel: 10.0
	Compiler: clang 9.0
Ubuntu 18.04
	Kernel: 4.15.0-generic
	Compiler: gcc 7.4
CentOS 8
	Kernel: 4.18.0.el8_0
	Compiler: gcc 8.3.1
Fedora 31
	Kernel: 5.3.16
	Compiler: gcc 9.2.1
openSUSE Leap 15
	Kernel: 4.12.14
	Compiler: gcc 7.4.1
Arch Linux
	Kernel: latest
	Compiler: gcc latest
FreeBSD 11.2
	Kernel: 11.2
	Compiler: gcc 8.3
To view detailed results, visit:
https://lab.dpdk.org/results/dashboard/patchsets/10154/
UNH-IOL DPDK Community Lab
To manage your email subscriptions, visit: 
https://lab.dpdk.org/results/dashboard/preferences/subscriptions/
    
    
More information about the test-report
mailing list