[dpdk-test-report] |SUCCESS| pw67509-67516 [PATCH] [v4,	1/8] net/netvsc: propagate descriptor limits from VF to netvsc
    dpdklab at iol.unh.edu 
    dpdklab at iol.unh.edu
       
    Tue Mar 31 22:01:11 CEST 2020
    
    
  
Test-Label: iol-testing
Test-Status: SUCCESS
http://dpdk.org/patch/67509
_Testing PASS_
Submitter: Stephen Hemminger <stephen at networkplumber.org>
Date: Tuesday, March 31 2020 17:13:57 
DPDK git baseline: Repo:dpdk
  Branch: master
  CommitID:ffcf831454a93c1da54299d4066dd03de6712a9b
67509-67516 --> testing pass
Test environment and result as below:
+---------------------+--------------------+-------------------+------------------+--------------+----------------+
|     Environment     | dpdk_meson_compile | dpdk_compile_spdk | dpdk_compile_ovs | dpdk_compile | dpdk_unit_test |
+=====================+====================+===================+==================+==============+================+
| Windows Server 2019 | PASS               | SKIPPED           | SKIPPED          | SKIPPED      | SKIPPED        |
+---------------------+--------------------+-------------------+------------------+--------------+----------------+
| CentOS 8            | PASS               | PASS              | PASS             | PASS         | SKIPPED        |
+---------------------+--------------------+-------------------+------------------+--------------+----------------+
| Fedora 31           | PASS               | PASS              | PASS             | PASS         | SKIPPED        |
+---------------------+--------------------+-------------------+------------------+--------------+----------------+
| Ubuntu 18.04        | PASS               | PASS              | PASS             | PASS         | PASS           |
+---------------------+--------------------+-------------------+------------------+--------------+----------------+
| openSUSE Leap 15    | PASS               | PASS              | PASS             | PASS         | SKIPPED        |
+---------------------+--------------------+-------------------+------------------+--------------+----------------+
| FreeBSD 11.2        | PASS               | PASS              | SKIPPED          | PASS         | SKIPPED        |
+---------------------+--------------------+-------------------+------------------+--------------+----------------+
| Arch Linux          | PASS               | SKIPPED           | PASS             | PASS         | SKIPPED        |
+---------------------+--------------------+-------------------+------------------+--------------+----------------+
Windows Server 2019
	Kernel: 10.0
	Compiler: clang 9.0
CentOS 8
	Kernel: 4.18.0.el8_0
	Compiler: gcc 8.3.1
Fedora 31
	Kernel: 5.3.16
	Compiler: gcc 9.2.1
Ubuntu 18.04
	Kernel: 4.15.0-generic
	Compiler: gcc 7.4
openSUSE Leap 15
	Kernel: 4.12.14
	Compiler: gcc 7.4.1
FreeBSD 11.2
	Kernel: 11.2
	Compiler: gcc 8.3
Arch Linux
	Kernel: latest
	Compiler: gcc latest
To view detailed results, visit:
https://lab.dpdk.org/results/dashboard/patchsets/10193/
UNH-IOL DPDK Community Lab
To manage your email subscriptions, visit: 
https://lab.dpdk.org/results/dashboard/preferences/subscriptions/
    
    
More information about the test-report
mailing list