[dpdk-test-report] |SUCCESS| pw79743-79745 [PATCH] [3/3] crypto/aesni_mb: support Chacha20-Poly1305

dpdklab at iol.unh.edu dpdklab at iol.unh.edu
Tue Oct 6 14:05:16 CEST 2020


Test-Label: iol-testing
Test-Status: SUCCESS
http://dpdk.org/patch/79745

_Testing PASS_

Submitter: De Lara Guarch, Pablo <pablo.de.lara.guarch at intel.com>
Date: Tuesday, October 06 2020 10:59:13 
DPDK git baseline: Repo:dpdk
  Branch: master
  CommitID:100d9b8066e957d2302277761ea46fdb78857bac

79743-79745 --> testing pass

Test environment and result as below:

+---------------------+--------------------+----------------+
|     Environment     | dpdk_meson_compile | dpdk_unit_test |
+=====================+====================+================+
| Windows Server 2019 | PASS               | SKIPPED        |
+---------------------+--------------------+----------------+
| FreeBSD 11.2        | PASS               | SKIPPED        |
+---------------------+--------------------+----------------+
| Ubuntu 18.04        | PASS               | PASS           |
+---------------------+--------------------+----------------+
| CentOS 8            | PASS               | SKIPPED        |
+---------------------+--------------------+----------------+
| Fedora 31           | PASS               | SKIPPED        |
+---------------------+--------------------+----------------+
| Fedora Rawhide      | PASS               | SKIPPED        |
+---------------------+--------------------+----------------+
| Arch Linux          | PASS               | SKIPPED        |
+---------------------+--------------------+----------------+

Windows Server 2019
	Kernel: 10.0
	Compiler: clang 9.0

FreeBSD 11.2
	Kernel: 11.2
	Compiler: gcc 8.3

Ubuntu 18.04
	Kernel: 4.15.0-generic
	Compiler: gcc 7.4

CentOS 8
	Kernel: 4.18.0.el8_0
	Compiler: gcc 8.3.1

Fedora 31
	Kernel: 5.3.16
	Compiler: gcc 9.2.1

Fedora Rawhide
	Kernel: 5.6.8
	Compiler: gcc 10.2.1

Arch Linux
	Kernel: latest
	Compiler: gcc latest

To view detailed results, visit:
https://lab.dpdk.org/results/dashboard/patchsets/13474/

UNH-IOL DPDK Community Lab

To manage your email subscriptions, visit: 
https://lab.dpdk.org/results/dashboard/preferences/subscriptions/


More information about the test-report mailing list