[dpdk-test-report] |SUCCESS| pw82169 [PATCH] [v4] examples/tep_term: deprecate this example

dpdklab at iol.unh.edu dpdklab at iol.unh.edu
Tue Oct 27 20:56:22 CET 2020


Test-Label: iol-testing
Test-Status: SUCCESS
http://dpdk.org/patch/82169

_Testing PASS_

Submitter: Xiaoyun Li <xiaoyun.li at intel.com>
Date: Monday, October 26 2020 08:11:43 
DPDK git baseline: Repo:dpdk
  Branch: master
  CommitID:5d7366372888ba654d3ba02b2b06de469ec433b9

82169 --> testing pass

Test environment and result as below:

+---------------------+--------------------+
|     Environment     | dpdk_meson_compile |
+=====================+====================+
| Windows Server 2019 | PASS               |
+---------------------+--------------------+
| Ubuntu 18.04        | PASS               |
+---------------------+--------------------+
| FreeBSD 11.2        | PASS               |
+---------------------+--------------------+
| CentOS 8            | PASS               |
+---------------------+--------------------+
| Fedora 31           | PASS               |
+---------------------+--------------------+
| openSUSE Leap 15    | PASS               |
+---------------------+--------------------+
| Arch Linux          | PASS               |
+---------------------+--------------------+

Windows Server 2019
	Kernel: 10.0
	Compiler: clang 9.0

Ubuntu 18.04
	Kernel: 4.15.0-generic
	Compiler: gcc 7.4

FreeBSD 11.2
	Kernel: 11.2
	Compiler: gcc 8.3

CentOS 8
	Kernel: 4.18.0.el8_0
	Compiler: gcc 8.3.1

Fedora 31
	Kernel: 5.3.16
	Compiler: gcc 9.2.1

openSUSE Leap 15
	Kernel: 4.12.14
	Compiler: gcc 7.4.1

Arch Linux
	Kernel: latest
	Compiler: gcc latest

To view detailed results, visit:
https://lab.dpdk.org/results/dashboard/patchsets/14009/

UNH-IOL DPDK Community Lab

To manage your email subscriptions, visit: 
https://lab.dpdk.org/results/dashboard/preferences/subscriptions/


More information about the test-report mailing list