[dpdk-test-report] |SUCCESS| pw82324 [PATCH] hash: fix dereference before null check

dpdklab at iol.unh.edu dpdklab at iol.unh.edu
Tue Oct 27 21:38:40 CET 2020


Test-Label: iol-testing
Test-Status: SUCCESS
http://dpdk.org/patch/82324

_Testing PASS_

Submitter: wangyunjian <wangyunjian at huawei.com>
Date: Tuesday, October 27 2020 12:51:25 
DPDK git baseline: Repo:dpdk
  Branch: master
  CommitID:5d7366372888ba654d3ba02b2b06de469ec433b9

82324 --> testing pass

Test environment and result as below:

+---------------------+--------------------+
|     Environment     | dpdk_meson_compile |
+=====================+====================+
| Windows Server 2019 | PASS               |
+---------------------+--------------------+
| FreeBSD 11.2        | PASS               |
+---------------------+--------------------+
| Ubuntu 18.04        | PASS               |
+---------------------+--------------------+
| CentOS 8            | PASS               |
+---------------------+--------------------+
| Fedora 31           | PASS               |
+---------------------+--------------------+
| openSUSE Leap 15    | PASS               |
+---------------------+--------------------+
| Arch Linux          | PASS               |
+---------------------+--------------------+

Windows Server 2019
	Kernel: 10.0
	Compiler: clang 9.0

FreeBSD 11.2
	Kernel: 11.2
	Compiler: gcc 8.3

Ubuntu 18.04
	Kernel: 4.15.0-generic
	Compiler: gcc 7.4

CentOS 8
	Kernel: 4.18.0.el8_0
	Compiler: gcc 8.3.1

Fedora 31
	Kernel: 5.3.16
	Compiler: gcc 9.2.1

openSUSE Leap 15
	Kernel: 4.12.14
	Compiler: gcc 7.4.1

Arch Linux
	Kernel: latest
	Compiler: gcc latest

To view detailed results, visit:
https://lab.dpdk.org/results/dashboard/patchsets/14061/

UNH-IOL DPDK Community Lab

To manage your email subscriptions, visit: 
https://lab.dpdk.org/results/dashboard/preferences/subscriptions/


More information about the test-report mailing list