[dpdk-test-report] |SUCCESS| pw76327 [PATCH] [v2] regex/mlx5: add teardown flow to fastpath buffers

dpdklab at iol.unh.edu dpdklab at iol.unh.edu
Wed Sep 2 19:37:27 CEST 2020


Test-Label: iol-testing
Test-Status: SUCCESS
http://dpdk.org/patch/76327

_Testing PASS_

Submitter: Yuval Avnery <yuvalav at nvidia.com>
Date: Wednesday, September 02 2020 11:38:22 
DPDK git baseline: Repo:dpdk
  Branch: master
  CommitID:cd6f1d7a5fde76c4f1e771de9f7aafdf59d691e4

76327 --> testing pass

Test environment and result as below:

+---------------------+--------------------+--------------+-------------------+------------------+----------------+
|     Environment     | dpdk_meson_compile | dpdk_compile | dpdk_compile_spdk | dpdk_compile_ovs | dpdk_unit_test |
+=====================+====================+==============+===================+==================+================+
| Windows Server 2019 | PASS               | SKIPPED      | SKIPPED           | SKIPPED          | SKIPPED        |
+---------------------+--------------------+--------------+-------------------+------------------+----------------+
| FreeBSD 11.2        | PASS               | PASS         | PASS              | SKIPPED          | SKIPPED        |
+---------------------+--------------------+--------------+-------------------+------------------+----------------+
| Ubuntu 18.04        | PASS               | PASS         | PASS              | PASS             | PASS           |
+---------------------+--------------------+--------------+-------------------+------------------+----------------+
| CentOS 8            | PASS               | PASS         | PASS              | PASS             | SKIPPED        |
+---------------------+--------------------+--------------+-------------------+------------------+----------------+
| openSUSE Leap 15    | PASS               | PASS         | PASS              | PASS             | SKIPPED        |
+---------------------+--------------------+--------------+-------------------+------------------+----------------+
| Fedora 31           | PASS               | PASS         | PASS              | PASS             | SKIPPED        |
+---------------------+--------------------+--------------+-------------------+------------------+----------------+
| Arch Linux          | PASS               | PASS         | SKIPPED           | PASS             | SKIPPED        |
+---------------------+--------------------+--------------+-------------------+------------------+----------------+

Windows Server 2019
	Kernel: 10.0
	Compiler: clang 9.0

FreeBSD 11.2
	Kernel: 11.2
	Compiler: gcc 8.3

Ubuntu 18.04
	Kernel: 4.15.0-generic
	Compiler: gcc 7.4

CentOS 8
	Kernel: 4.18.0.el8_0
	Compiler: gcc 8.3.1

openSUSE Leap 15
	Kernel: 4.12.14
	Compiler: gcc 7.4.1

Fedora 31
	Kernel: 5.3.16
	Compiler: gcc 9.2.1

Arch Linux
	Kernel: latest
	Compiler: gcc latest

To view detailed results, visit:
https://lab.dpdk.org/results/dashboard/patchsets/12798/

UNH-IOL DPDK Community Lab

To manage your email subscriptions, visit: 
https://lab.dpdk.org/results/dashboard/preferences/subscriptions/


More information about the test-report mailing list