[dpdk-test-report] |SUCCESS| pw76898-76901 [PATCH] [3/3] test/event_crypto_adapter: free resources during exit
dpdklab at iol.unh.edu
dpdklab at iol.unh.edu
Tue Sep 8 16:40:39 CEST 2020
Test-Label: iol-testing
Test-Status: SUCCESS
http://dpdk.org/patch/76901
_Testing PASS_
Submitter: Ankur Dwivedi <adwivedi at marvell.com>
Date: Tuesday, September 08 2020 09:15:34
DPDK git baseline: Repo:dpdk
Branch: master
CommitID:cd6f1d7a5fde76c4f1e771de9f7aafdf59d691e4
76898-76901 --> testing pass
Test environment and result as below:
+---------------------+--------------------+-------------------+----------------+------------------+
| Environment | dpdk_meson_compile | dpdk_compile_spdk | dpdk_unit_test | dpdk_compile_ovs |
+=====================+====================+===================+================+==================+
| Windows Server 2019 | PASS | SKIPPED | SKIPPED | SKIPPED |
+---------------------+--------------------+-------------------+----------------+------------------+
| FreeBSD 11.2 | PASS | PASS | SKIPPED | SKIPPED |
+---------------------+--------------------+-------------------+----------------+------------------+
| CentOS 8 | PASS | PASS | SKIPPED | PASS |
+---------------------+--------------------+-------------------+----------------+------------------+
| openSUSE Leap 15 | PASS | PASS | SKIPPED | PASS |
+---------------------+--------------------+-------------------+----------------+------------------+
| Ubuntu 18.04 | PASS | PASS | PASS | PASS |
+---------------------+--------------------+-------------------+----------------+------------------+
| Fedora 31 | PASS | PASS | SKIPPED | PASS |
+---------------------+--------------------+-------------------+----------------+------------------+
| Arch Linux | PASS | SKIPPED | SKIPPED | PASS |
+---------------------+--------------------+-------------------+----------------+------------------+
Windows Server 2019
Kernel: 10.0
Compiler: clang 9.0
FreeBSD 11.2
Kernel: 11.2
Compiler: gcc 8.3
CentOS 8
Kernel: 4.18.0.el8_0
Compiler: gcc 8.3.1
openSUSE Leap 15
Kernel: 4.12.14
Compiler: gcc 7.4.1
Ubuntu 18.04
Kernel: 4.15.0-generic
Compiler: gcc 7.4
Fedora 31
Kernel: 5.3.16
Compiler: gcc 9.2.1
Arch Linux
Kernel: latest
Compiler: gcc latest
To view detailed results, visit:
https://lab.dpdk.org/results/dashboard/patchsets/12890/
UNH-IOL DPDK Community Lab
To manage your email subscriptions, visit:
https://lab.dpdk.org/results/dashboard/preferences/subscriptions/
More information about the test-report
mailing list