[dpdk-test-report] |SUCCESS| pw77125-77127 [PATCH] [v1, 3/3] net/ice: support ACL filter in DCF
dpdklab at iol.unh.edu
dpdklab at iol.unh.edu
Thu Sep 10 10:59:45 CEST 2020
Test-Label: iol-testing
Test-Status: SUCCESS
http://dpdk.org/patch/77127
_Testing PASS_
Submitter: Simei Su <simei.su at intel.com>
Date: Thursday, September 10 2020 07:37:35
DPDK git baseline: Repo:dpdk
Branch: master
CommitID:cd6f1d7a5fde76c4f1e771de9f7aafdf59d691e4
77125-77127 --> testing pass
Test environment and result as below:
+---------------------+--------------------+------------------+-------------------+----------------+
| Environment | dpdk_meson_compile | dpdk_compile_ovs | dpdk_compile_spdk | dpdk_unit_test |
+=====================+====================+==================+===================+================+
| Windows Server 2019 | PASS | SKIPPED | SKIPPED | SKIPPED |
+---------------------+--------------------+------------------+-------------------+----------------+
| Ubuntu 18.04 | PASS | PASS | PASS | PASS |
+---------------------+--------------------+------------------+-------------------+----------------+
| FreeBSD 11.2 | PASS | SKIPPED | PASS | SKIPPED |
+---------------------+--------------------+------------------+-------------------+----------------+
| CentOS 8 | PASS | PASS | PASS | SKIPPED |
+---------------------+--------------------+------------------+-------------------+----------------+
| Fedora 31 | PASS | PASS | PASS | SKIPPED |
+---------------------+--------------------+------------------+-------------------+----------------+
| openSUSE Leap 15 | PASS | PASS | PASS | SKIPPED |
+---------------------+--------------------+------------------+-------------------+----------------+
| Arch Linux | PASS | PASS | SKIPPED | SKIPPED |
+---------------------+--------------------+------------------+-------------------+----------------+
Windows Server 2019
Kernel: 10.0
Compiler: clang 9.0
Ubuntu 18.04
Kernel: 4.15.0-generic
Compiler: gcc 7.4
FreeBSD 11.2
Kernel: 11.2
Compiler: gcc 8.3
CentOS 8
Kernel: 4.18.0.el8_0
Compiler: gcc 8.3.1
Fedora 31
Kernel: 5.3.16
Compiler: gcc 9.2.1
openSUSE Leap 15
Kernel: 4.12.14
Compiler: gcc 7.4.1
Arch Linux
Kernel: latest
Compiler: gcc latest
To view detailed results, visit:
https://lab.dpdk.org/results/dashboard/patchsets/12959/
UNH-IOL DPDK Community Lab
To manage your email subscriptions, visit:
https://lab.dpdk.org/results/dashboard/preferences/subscriptions/
More information about the test-report
mailing list