[dpdk-test-report] |SUCCESS| pw77630-77631 [PATCH] [v2, 2/2] event/sw: add useful work done attribute

dpdklab at iol.unh.edu dpdklab at iol.unh.edu
Mon Sep 14 17:04:45 CEST 2020


Test-Label: iol-testing
Test-Status: SUCCESS
http://dpdk.org/patch/77631

_Testing PASS_

Submitter: Van Haaren, Harry <harry.van.haaren at intel.com>
Date: Monday, September 14 2020 14:37:32 
DPDK git baseline: Repo:dpdk
  Branch: master
  CommitID:cd6f1d7a5fde76c4f1e771de9f7aafdf59d691e4

77630-77631 --> testing pass

Test environment and result as below:

+---------------------+--------------------+----------------+
|     Environment     | dpdk_meson_compile | dpdk_unit_test |
+=====================+====================+================+
| Windows Server 2019 | PASS               | SKIPPED        |
+---------------------+--------------------+----------------+
| FreeBSD 11.2        | PASS               | SKIPPED        |
+---------------------+--------------------+----------------+
| Ubuntu 18.04        | PASS               | PASS           |
+---------------------+--------------------+----------------+
| CentOS 8            | PASS               | SKIPPED        |
+---------------------+--------------------+----------------+
| Fedora 31           | PASS               | SKIPPED        |
+---------------------+--------------------+----------------+
| openSUSE Leap 15    | PASS               | SKIPPED        |
+---------------------+--------------------+----------------+

Windows Server 2019
	Kernel: 10.0
	Compiler: clang 9.0

FreeBSD 11.2
	Kernel: 11.2
	Compiler: gcc 8.3

Ubuntu 18.04
	Kernel: 4.15.0-generic
	Compiler: gcc 7.4

CentOS 8
	Kernel: 4.18.0.el8_0
	Compiler: gcc 8.3.1

Fedora 31
	Kernel: 5.3.16
	Compiler: gcc 9.2.1

openSUSE Leap 15
	Kernel: 4.12.14
	Compiler: gcc 7.4.1

To view detailed results, visit:
https://lab.dpdk.org/results/dashboard/patchsets/13055/

UNH-IOL DPDK Community Lab

To manage your email subscriptions, visit: 
https://lab.dpdk.org/results/dashboard/preferences/subscriptions/


More information about the test-report mailing list