[dpdk-test-report] |SUCCESS| pw91994 [PATCH] [v5] net/iavf: fix hash configuration on i40e VF

dpdklab at iol.unh.edu dpdklab at iol.unh.edu
Thu Apr 22 17:27:10 CEST 2021


Test-Label: iol-testing
Test-Status: SUCCESS
http://dpdk.org/patch/91994

_Testing PASS_

Submitter: Alvin Zhang <alvinx.zhang at intel.com>
Date: Thursday, April 22 2021 05:08:09 
DPDK git baseline: Repo:dpdk
  Branch: master
  CommitID:4a8ab48ec47b3616272e50620b8e1a9599358ea6

91994 --> testing pass

Test environment and result as below:

+---------------------+--------------------+-------------------+----------------------+----------------+
|     Environment     | dpdk_meson_compile | dpdk_compile_spdk | dpdk_mingw64_compile | dpdk_unit_test |
+=====================+====================+===================+======================+================+
| Fedora 31           | PASS               | SKIPPED           | SKIPPED              | SKIPPED        |
+---------------------+--------------------+-------------------+----------------------+----------------+
| Ubuntu 18.04        | PASS               | PASS              | SKIPPED              | PASS           |
+---------------------+--------------------+-------------------+----------------------+----------------+
| Fedora 32           | PASS               | SKIPPED           | SKIPPED              | SKIPPED        |
+---------------------+--------------------+-------------------+----------------------+----------------+
| CentOS Stream 8     | PASS               | SKIPPED           | SKIPPED              | SKIPPED        |
+---------------------+--------------------+-------------------+----------------------+----------------+
| Ubuntu 20.04        | PASS               | SKIPPED           | SKIPPED              | SKIPPED        |
+---------------------+--------------------+-------------------+----------------------+----------------+
| RHEL 7              | PASS               | SKIPPED           | SKIPPED              | SKIPPED        |
+---------------------+--------------------+-------------------+----------------------+----------------+
| RHEL8               | PASS               | SKIPPED           | SKIPPED              | SKIPPED        |
+---------------------+--------------------+-------------------+----------------------+----------------+
| Arch Linux          | PASS               | SKIPPED           | SKIPPED              | SKIPPED        |
+---------------------+--------------------+-------------------+----------------------+----------------+
| openSUSE Leap 15    | PASS               | SKIPPED           | SKIPPED              | SKIPPED        |
+---------------------+--------------------+-------------------+----------------------+----------------+
| Windows Server 2019 | PASS               | SKIPPED           | PASS                 | SKIPPED        |
+---------------------+--------------------+-------------------+----------------------+----------------+
| FreeBSD 11.2        | PASS               | SKIPPED           | SKIPPED              | SKIPPED        |
+---------------------+--------------------+-------------------+----------------------+----------------+
| Ubuntu 18.04 ARM    | PASS               | SKIPPED           | SKIPPED              | PASS           |
+---------------------+--------------------+-------------------+----------------------+----------------+


Fedora 31
	Kernel: 4.18.0-240.10.1.el8_3.x86_64
	Compiler: gcc 9.3.1

Ubuntu 18.04
	Kernel: 4.18.0-240.10.1.el8_3.x86_64
	Compiler: gcc 7.5.0-3ubuntu1~18.04

Fedora 32
	Kernel: 4.18.0-240.10.1.el8_3.x86_64
	Compiler: gcc 10.2.1

CentOS Stream 8
	Kernel: 4.18.0-240.10.1.el8_3.x86_64
	Compiler: gcc 8.4.1 20200928

Ubuntu 20.04
	Kernel: 4.18.0-240.10.1.el8_3.x86_64
	Compiler: gcc 9.3.0-17ubuntu1~20.04

RHEL 7
	Kernel: 4.18.0-240.10.1.el8_3.x86_64
	Compiler: gcc 4.8.5 20150623 (Red Hat 4.8.5-44)

RHEL8
	Kernel: 4.18.0-240.10.1.el8_3.x86_64
	Compiler: gcc 8.3.1 20191121 (Red Hat 8.3.1-5)

Arch Linux
	Kernel: 4.18.0-240.10.1.el8_3.x86_64
	Compiler: gcc 10.2.0

openSUSE Leap 15
	Kernel: 4.18.0-240.10.1.el8_3.x86_64
	Compiler: gcc 7.5.0

Windows Server 2019
	Kernel: 10.0
	Compiler: clang 9.0 and gcc 8.1.0 (MinGW)

FreeBSD 11.2
	Kernel: 11.2
	Compiler: gcc 8.3

Ubuntu 18.04 ARM
	Kernel: 5.4.0-53-generic
	Compiler: gcc 9.3

To view detailed results, visit:
https://lab.dpdk.org/results/dashboard/patchsets/16717/

UNH-IOL DPDK Community Lab

To manage your email subscriptions, visit: 
https://lab.dpdk.org/results/dashboard/preferences/subscriptions/


More information about the test-report mailing list