[dpdk-test-report] |SUCCESS| pw92313-92314 [PATCH] [v2, 2/2] net/i40e: fix missing set primary MAC type when start port
dpdklab at iol.unh.edu
dpdklab at iol.unh.edu
Wed Apr 28 11:58:39 CEST 2021
Test-Label: iol-testing
Test-Status: SUCCESS
http://dpdk.org/patch/92314
_Testing PASS_
Submitter: Robin Zhang <robinx.zhang at intel.com>
Date: Wednesday, April 28 2021 08:04:52
DPDK git baseline: Repo:dpdk
Branch: master
CommitID:1b593b9c832e9b284cc59665fe662242a3fc1daf
92313-92314 --> testing pass
Test environment and result as below:
+---------------------+----------------------+-------------------+--------------------+----------------+
| Environment | dpdk_mingw64_compile | dpdk_compile_spdk | dpdk_meson_compile | dpdk_unit_test |
+=====================+======================+===================+====================+================+
| Windows Server 2019 | PASS | SKIPPED | PASS | SKIPPED |
+---------------------+----------------------+-------------------+--------------------+----------------+
| Ubuntu 18.04 | SKIPPED | PASS | PASS | PASS |
+---------------------+----------------------+-------------------+--------------------+----------------+
| Fedora 31 | SKIPPED | SKIPPED | PASS | SKIPPED |
+---------------------+----------------------+-------------------+--------------------+----------------+
| CentOS Stream 8 | SKIPPED | SKIPPED | PASS | SKIPPED |
+---------------------+----------------------+-------------------+--------------------+----------------+
| FreeBSD 11.2 | SKIPPED | SKIPPED | PASS | SKIPPED |
+---------------------+----------------------+-------------------+--------------------+----------------+
| Ubuntu 18.04 ARM | SKIPPED | SKIPPED | PASS | PASS |
+---------------------+----------------------+-------------------+--------------------+----------------+
Windows Server 2019
Kernel: 10.0
Compiler: clang 9.0 and gcc 8.1.0 (MinGW)
Ubuntu 18.04
Kernel: 4.18.0-240.10.1.el8_3.x86_64
Compiler: gcc 7.5.0-3ubuntu1~18.04
Fedora 31
Kernel: 4.18.0-240.10.1.el8_3.x86_64
Compiler: gcc 9.3.1
CentOS Stream 8
Kernel: 4.18.0-240.10.1.el8_3.x86_64
Compiler: gcc 8.4.1 20200928
FreeBSD 11.2
Kernel: 11.2
Compiler: gcc 8.3
Ubuntu 18.04 ARM
Kernel: 5.4.0-53-generic
Compiler: gcc 9.3
To view detailed results, visit:
https://lab.dpdk.org/results/dashboard/patchsets/16833/
UNH-IOL DPDK Community Lab
To manage your email subscriptions, visit:
https://lab.dpdk.org/results/dashboard/preferences/subscriptions/
More information about the test-report
mailing list