[dpdk-test-report] |SUCCESS| pw96531 [PATCH] net: announce changes in TCP header

dpdklab at iol.unh.edu dpdklab at iol.unh.edu
Mon Aug 2 20:20:11 CEST 2021


Test-Label: iol-testing
Test-Status: SUCCESS
http://dpdk.org/patch/96531

_Testing PASS_

Submitter: Gregory Etelson <getelson at nvidia.com>
Date: Monday, August 02 2021 10:42:18 
DPDK git baseline: Repo:dpdk
  Branch: master
  CommitID:90a05c5012049c0973d98d25953ebc600b67105b

96531 --> testing pass

Test environment and result as below:

+---------------------+----------------------+-------------------+--------------------+
|     Environment     | dpdk_mingw64_compile | dpdk_compile_spdk | dpdk_meson_compile |
+=====================+======================+===================+====================+
| Windows Server 2019 | PASS                 | SKIPPED           | SKIPPED            |
+---------------------+----------------------+-------------------+--------------------+
| Ubuntu 18.04        | SKIPPED              | PASS              | SKIPPED            |
+---------------------+----------------------+-------------------+--------------------+
| Fedora 31           | SKIPPED              | SKIPPED           | PASS               |
+---------------------+----------------------+-------------------+--------------------+


Windows Server 2019
	Kernel: 10.0
	Compiler: clang 9.0 and gcc 8.1.0 (MinGW)

Ubuntu 18.04
	Kernel: 4.18.0-240.10.1.el8_3.x86_64
	Compiler: gcc 7.5.0-3ubuntu1~18.04

Fedora 31
	Kernel: 4.18.0-240.10.1.el8_3.x86_64
	Compiler: gcc 9.3.1

To view detailed results, visit:
https://lab.dpdk.org/results/dashboard/patchsets/18077/

UNH-IOL DPDK Community Lab

To manage your email subscriptions, visit: 
https://lab.dpdk.org/results/dashboard/preferences/subscriptions/


More information about the test-report mailing list