[dpdk-test-report] |SUCCESS| pw96545 [PATCH] net/mlx5: workaround not supported drop action on the root table
    dpdklab at iol.unh.edu 
    dpdklab at iol.unh.edu
       
    Tue Aug  3 06:09:00 CEST 2021
    
    
  
Test-Label: iol-abi-testing
Test-Status: SUCCESS
http://dpdk.org/patch/96545
_Testing PASS_
Submitter: Suanming Mou <suanmingm at nvidia.com>
Date: Monday, August 02 2021 14:30:24 
DPDK git baseline: Repo:dpdk
  Branch: master
  CommitID:90a05c5012049c0973d98d25953ebc600b67105b
96545 --> testing pass
Test environment and result as below:
+------------------------------------+----------+
|            Environment             | abi_test |
+====================================+==========+
| Ubuntu 20.04 ARM                   | PASS     |
+------------------------------------+----------+
| FreeBSD 13                         | PASS     |
+------------------------------------+----------+
| RHEL 7                             | PASS     |
+------------------------------------+----------+
| Ubuntu 20.04                       | PASS     |
+------------------------------------+----------+
| Fedora 32                          | PASS     |
+------------------------------------+----------+
| Ubuntu 18.04                       | PASS     |
+------------------------------------+----------+
| RHEL8                              | PASS     |
+------------------------------------+----------+
| Arch Linux                         | PASS     |
+------------------------------------+----------+
| openSUSE Leap 15                   | PASS     |
+------------------------------------+----------+
| CentOS Stream 8                    | PASS     |
+------------------------------------+----------+
| CentOS 8                           | PASS     |
+------------------------------------+----------+
| Fedora 31                          | PASS     |
+------------------------------------+----------+
| Fedora 33                          | PASS     |
+------------------------------------+----------+
| Ubuntu 20.04 ARM cross-compilation | PASS     |
+------------------------------------+----------+
| Fedora 34                          | PASS     |
+------------------------------------+----------+
| Fedora 34 clang                    | PASS     |
+------------------------------------+----------+
Ubuntu 20.04 ARM
	Kernel: 5.4.0-53-generic
	Compiler: gcc 9.3
FreeBSD 13
	Kernel: 13.0
	Compiler: clang 11.0.1
RHEL 7
	Kernel: 4.18.0-240.10.1.el8_3.x86_64
	Compiler: gcc 4.8.5 20150623 (Red Hat 4.8.5-44)
Ubuntu 20.04
	Kernel: 4.18.0-240.10.1.el8_3.x86_64
	Compiler: gcc 9.3.0-17ubuntu1~20.04
Fedora 32
	Kernel: 4.18.0-240.10.1.el8_3.x86_64
	Compiler: gcc 10.2.1
Ubuntu 18.04
	Kernel: 4.18.0-240.10.1.el8_3.x86_64
	Compiler: gcc 7.5.0-3ubuntu1~18.04
RHEL8
	Kernel: 4.18.0-240.10.1.el8_3.x86_64
	Compiler: gcc 8.3.1 20191121 (Red Hat 8.3.1-5)
Arch Linux
	Kernel: 5.4.0-73-generic
	Compiler: gcc 11.1.0
openSUSE Leap 15
	Kernel: 4.18.0-240.10.1.el8_3.x86_64
	Compiler: gcc 7.5.0
CentOS Stream 8
	Kernel: 4.18.0-240.10.1.el8_3.x86_64
	Compiler: gcc 8.4.1 20200928
CentOS 8
	Kernel: 4.18.0-240.10.1.el8_3.x86_64
	Compiler: gcc 8.3.1 20191121 (Red Hat 8.3.1-5)
Fedora 31
	Kernel: 4.18.0-240.10.1.el8_3.x86_64
	Compiler: gcc 9.3.1
Fedora 33
	Kernel: 5.4.0-72-generic
	Compiler: gcc 10.3.1 20210422 (Red Hat 10.3.1-1)
Ubuntu 20.04 ARM cross-compilation
	Kernel: 5.4.0-72-generic
	Compiler: aarch64-linux-gnu-gcc (Ubuntu 9.3.0-17ubuntu1~20.04) 9.3.0
Fedora 34
	Kernel: 5.4.0-72-generic
	Compiler: gcc 11.1.1 20210428 (Red Hat 11.1.1-1)
Fedora 34 clang
	Kernel: 5.4.0-72-generic
	Compiler: clang 12.0.0 (Fedora 12.0.0-0.3.rc1.fc34)
To view detailed results, visit:
https://lab.dpdk.org/results/dashboard/patchsets/18086/
UNH-IOL DPDK Community Lab
To manage your email subscriptions, visit: 
https://lab.dpdk.org/results/dashboard/preferences/subscriptions/
    
    
More information about the test-report
mailing list