|SUCCESS| pw105468 [PATCH] net/ice/base: support E824S and E825 devices
    dpdklab at iol.unh.edu 
    dpdklab at iol.unh.edu
       
    Wed Dec 29 11:50:48 CET 2021
    
    
  
Test-Label: iol-aarch64-unit-testing
Test-Status: SUCCESS
http://dpdk.org/patch/105468
_Testing PASS_
Submitter: Robin Zhang <robinx.zhang at intel.com>
Date: Wednesday, December 29 2021 09:25:51 
DPDK git baseline: Repo:dpdk
  Branch: master
  CommitID:042f5a355a57b31a9f87824173a9d427b21abdb8
105468 --> testing pass
Test environment and result as below:
+-------------------------------+----------------+--------------+
|          Environment          | dpdk_unit_test | lpm_autotest |
+===============================+================+==============+
| Ubuntu 20.04 ARM GCC Native   | PASS           | SKIPPED      |
+-------------------------------+----------------+--------------+
| Ubuntu 20.04 ARM Clang Native | PASS           | SKIPPED      |
+-------------------------------+----------------+--------------+
| Ubuntu 20.04 ARM SVE          | SKIPPED        | PASS         |
+-------------------------------+----------------+--------------+
Ubuntu 20.04 ARM GCC Native
	Kernel: 5.4.0-53-generic
	Compiler: gcc 9.3
Ubuntu 20.04 ARM Clang Native
	Kernel: 5.4.0-53-generic
	Compiler: clang 10.0.0-4ubuntu1
Ubuntu 20.04 ARM SVE
	Kernel: 5.4.0-80-generic
	Compiler: gcc 10.3.0 (Ubuntu 10.3.0-1ubuntu1~20.04)
To view detailed results, visit:
https://lab.dpdk.org/results/dashboard/patchsets/20575/
UNH-IOL DPDK Community Lab
To manage your email subscriptions, visit: 
https://lab.dpdk.org/results/dashboard/preferences/subscriptions/
    
    
More information about the test-report
mailing list