[dpdk-test-report] |SUCCESS| [GIT MASTER] d5e8a9f7eb2934617a634fd79439b2a11a0375be
    dpdklab at iol.unh.edu 
    dpdklab at iol.unh.edu
       
    Thu Feb 11 20:55:33 CET 2021
    
    
  
_Testing PASS_
Branch: dpdk-next-net
d5e8a9f7eb2934617a634fd79439b2a11a0375be --> testing pass
Test environment and result as below:
+---------------------+----------------------+--------------------+----------------+
|     Environment     | dpdk_mingw64_compile | dpdk_meson_compile | dpdk_unit_test |
+=====================+======================+====================+================+
| Windows Server 2019 | PASS                 | PASS               | SKIPPED        |
+---------------------+----------------------+--------------------+----------------+
| FreeBSD 11.2        | SKIPPED              | PASS               | SKIPPED        |
+---------------------+----------------------+--------------------+----------------+
| Ubuntu 18.04        | SKIPPED              | PASS               | PASS           |
+---------------------+----------------------+--------------------+----------------+
| CentOS 8            | SKIPPED              | PASS               | SKIPPED        |
+---------------------+----------------------+--------------------+----------------+
| Fedora 31           | SKIPPED              | PASS               | SKIPPED        |
+---------------------+----------------------+--------------------+----------------+
| Ubuntu 18.04 ARM    | SKIPPED              | PASS               | PASS           |
+---------------------+----------------------+--------------------+----------------+
| openSUSE Leap 15    | SKIPPED              | PASS               | SKIPPED        |
+---------------------+----------------------+--------------------+----------------+
| Arch Linux          | SKIPPED              | PASS               | SKIPPED        |
+---------------------+----------------------+--------------------+----------------+
Windows Server 2019
	Kernel: 10.0
	Compiler: clang 9.0 and gcc 8.1.0 (MinGW)
FreeBSD 11.2
	Kernel: 11.2
	Compiler: gcc 8.3
Ubuntu 18.04
	Kernel: 4.15.0-generic
	Compiler: gcc 7.5
CentOS 8
	Kernel: 4.18.0.el8_0
	Compiler: gcc 8.3.1
Fedora 31
	Kernel: 5.3.16
	Compiler: gcc 9.2.1
Ubuntu 18.04 ARM
	Kernel: 5.4.0-53-generic
	Compiler: gcc 9.3
openSUSE Leap 15
	Kernel: 4.12.14
	Compiler: gcc 7.4.1
Arch Linux
	Kernel: latest
	Compiler: gcc latest
To view detailed results, visit:
https://lab.dpdk.org/results/dashboard/tarballs/13766/
UNH-IOL DPDK Community Lab
To manage your email subscriptions, visit: 
https://lab.dpdk.org/results/dashboard/preferences/subscriptions/
    
    
More information about the test-report
mailing list