[dpdk-test-report] |SUCCESS| pw87893 [PATCH] [21.05, v3] app/testpmd: display rxq desc used count
    dpdklab at iol.unh.edu 
    dpdklab at iol.unh.edu
       
    Fri Feb 12 23:53:24 CET 2021
    
    
  
Test-Label: iol-testing
Test-Status: SUCCESS
http://dpdk.org/patch/87893
_Testing PASS_
Submitter: Lance Richardson <lance.richardson at broadcom.com>
Date: Friday, February 12 2021 21:24:52 
DPDK git baseline: Repo:dpdk
  Branch: master
  CommitID:de34aaa96be969bb919b98891af18ed0c435625d
87893 --> testing pass
Test environment and result as below:
+---------------------+----------------------+--------------------+----------------+
|     Environment     | dpdk_mingw64_compile | dpdk_meson_compile | dpdk_unit_test |
+=====================+======================+====================+================+
| Windows Server 2019 | PASS                 | PASS               | SKIPPED        |
+---------------------+----------------------+--------------------+----------------+
| FreeBSD 11.2        | SKIPPED              | PASS               | SKIPPED        |
+---------------------+----------------------+--------------------+----------------+
| Fedora 31           | SKIPPED              | PASS               | SKIPPED        |
+---------------------+----------------------+--------------------+----------------+
| CentOS 8            | SKIPPED              | PASS               | SKIPPED        |
+---------------------+----------------------+--------------------+----------------+
| openSUSE Leap 15    | SKIPPED              | PASS               | SKIPPED        |
+---------------------+----------------------+--------------------+----------------+
| Arch Linux          | SKIPPED              | PASS               | SKIPPED        |
+---------------------+----------------------+--------------------+----------------+
| Ubuntu 18.04        | SKIPPED              | PASS               | PASS           |
+---------------------+----------------------+--------------------+----------------+
| Ubuntu 18.04 ARM    | SKIPPED              | PASS               | PASS           |
+---------------------+----------------------+--------------------+----------------+
Windows Server 2019
	Kernel: 10.0
	Compiler: clang 9.0 and gcc 8.1.0 (MinGW)
FreeBSD 11.2
	Kernel: 11.2
	Compiler: gcc 8.3
Fedora 31
	Kernel: 5.3.16
	Compiler: gcc 9.2.1
CentOS 8
	Kernel: 4.18.0.el8_0
	Compiler: gcc 8.3.1
openSUSE Leap 15
	Kernel: 4.12.14
	Compiler: gcc 7.4.1
Arch Linux
	Kernel: latest
	Compiler: gcc latest
Ubuntu 18.04
	Kernel: 4.15.0-generic
	Compiler: gcc 7.5
Ubuntu 18.04 ARM
	Kernel: 5.4.0-53-generic
	Compiler: gcc 9.3
To view detailed results, visit:
https://lab.dpdk.org/results/dashboard/patchsets/15619/
UNH-IOL DPDK Community Lab
To manage your email subscriptions, visit: 
https://lab.dpdk.org/results/dashboard/preferences/subscriptions/
    
    
More information about the test-report
mailing list