[dpdk-test-report] |SUCCESS| pw95774 [PATCH] [v3] dmadev: introduce DMA device library
dpdklab at iol.unh.edu
dpdklab at iol.unh.edu
Wed Jul 14 06:54:49 CEST 2021
Test-Label: iol-abi-testing
Test-Status: SUCCESS
http://dpdk.org/patch/95774
_Testing PASS_
Submitter: fengchengwen <fengchengwen at huawei.com>
Date: Tuesday, July 13 2021 12:27:43
DPDK git baseline: Repo:dpdk
Branch: master
CommitID:a95bbb72623c310df4d0c8ad45c2ee06f538e01b
95774 --> testing pass
Test environment and result as below:
+------------------------------------+----------+
| Environment | abi_test |
+====================================+==========+
| Ubuntu 20.04 ARM | PASS |
+------------------------------------+----------+
| Ubuntu 18.04 | PASS |
+------------------------------------+----------+
| Ubuntu 20.04 | PASS |
+------------------------------------+----------+
| RHEL 7 | PASS |
+------------------------------------+----------+
| CentOS 8 | PASS |
+------------------------------------+----------+
| RHEL8 | PASS |
+------------------------------------+----------+
| Fedora 32 | PASS |
+------------------------------------+----------+
| Arch Linux | PASS |
+------------------------------------+----------+
| CentOS Stream 8 | PASS |
+------------------------------------+----------+
| Fedora 31 | PASS |
+------------------------------------+----------+
| openSUSE Leap 15 | PASS |
+------------------------------------+----------+
| Ubuntu 20.04 ARM cross-compilation | PASS |
+------------------------------------+----------+
| Fedora 33 | PASS |
+------------------------------------+----------+
| Fedora 34 | PASS |
+------------------------------------+----------+
| Fedora 34 clang | PASS |
+------------------------------------+----------+
Ubuntu 20.04 ARM
Kernel: 5.4.0-53-generic
Compiler: gcc 9.3
Ubuntu 18.04
Kernel: 4.18.0-240.10.1.el8_3.x86_64
Compiler: gcc 7.5.0-3ubuntu1~18.04
Ubuntu 20.04
Kernel: 4.18.0-240.10.1.el8_3.x86_64
Compiler: gcc 9.3.0-17ubuntu1~20.04
RHEL 7
Kernel: 4.18.0-240.10.1.el8_3.x86_64
Compiler: gcc 4.8.5 20150623 (Red Hat 4.8.5-44)
CentOS 8
Kernel: 4.18.0-240.10.1.el8_3.x86_64
Compiler: gcc 8.3.1 20191121 (Red Hat 8.3.1-5)
RHEL8
Kernel: 4.18.0-240.10.1.el8_3.x86_64
Compiler: gcc 8.3.1 20191121 (Red Hat 8.3.1-5)
Fedora 32
Kernel: 4.18.0-240.10.1.el8_3.x86_64
Compiler: gcc 10.2.1
Arch Linux
Kernel: 5.4.0-73-generic
Compiler: gcc 11.1.0
CentOS Stream 8
Kernel: 4.18.0-240.10.1.el8_3.x86_64
Compiler: gcc 8.4.1 20200928
Fedora 31
Kernel: 4.18.0-240.10.1.el8_3.x86_64
Compiler: gcc 9.3.1
openSUSE Leap 15
Kernel: 4.18.0-240.10.1.el8_3.x86_64
Compiler: gcc 7.5.0
Ubuntu 20.04 ARM cross-compilation
Kernel: 5.4.0-72-generic
Compiler: aarch64-linux-gnu-gcc (Ubuntu 9.3.0-17ubuntu1~20.04) 9.3.0
Fedora 33
Kernel: 5.4.0-72-generic
Compiler: gcc 10.3.1 20210422 (Red Hat 10.3.1-1)
Fedora 34
Kernel: 5.4.0-72-generic
Compiler: gcc 11.1.1 20210428 (Red Hat 11.1.1-1)
Fedora 34 clang
Kernel: 5.4.0-72-generic
Compiler: clang 12.0.0 (Fedora 12.0.0-0.3.rc1.fc34)
To view detailed results, visit:
https://lab.dpdk.org/results/dashboard/patchsets/17804/
UNH-IOL DPDK Community Lab
To manage your email subscriptions, visit:
https://lab.dpdk.org/results/dashboard/preferences/subscriptions/
More information about the test-report
mailing list