[dpdk-test-report] |SUCCESS| pw96056 [PATCH] [v3] test/crypto: check if RAW API is supported

dpdklab at iol.unh.edu dpdklab at iol.unh.edu
Tue Jul 20 01:00:53 CEST 2021


Test-Label: iol-abi-testing
Test-Status: SUCCESS
http://dpdk.org/patch/96056

_Testing PASS_

Submitter: Dybkowski, AdamX <adamx.dybkowski at intel.com>
Date: Monday, July 19 2021 12:37:18 
DPDK git baseline: Repo:dpdk
  Branch: master
  CommitID:761a321acf9111132f7789ac374e08a7ea7ea0f7

96056 --> testing pass

Test environment and result as below:

+------------------+----------+
|   Environment    | abi_test |
+==================+==========+
| Ubuntu 20.04 ARM | PASS     |
+------------------+----------+
| Ubuntu 18.04     | PASS     |
+------------------+----------+
| RHEL 7           | PASS     |
+------------------+----------+
| Fedora 32        | PASS     |
+------------------+----------+
| RHEL8            | PASS     |
+------------------+----------+
| Arch Linux       | PASS     |
+------------------+----------+
| CentOS 8         | PASS     |
+------------------+----------+
| Ubuntu 20.04     | PASS     |
+------------------+----------+


Ubuntu 20.04 ARM
	Kernel: 5.4.0-53-generic
	Compiler: gcc 9.3

Ubuntu 18.04
	Kernel: 4.18.0-240.10.1.el8_3.x86_64
	Compiler: gcc 7.5.0-3ubuntu1~18.04

RHEL 7
	Kernel: 4.18.0-240.10.1.el8_3.x86_64
	Compiler: gcc 4.8.5 20150623 (Red Hat 4.8.5-44)

Fedora 32
	Kernel: 4.18.0-240.10.1.el8_3.x86_64
	Compiler: gcc 10.2.1

RHEL8
	Kernel: 4.18.0-240.10.1.el8_3.x86_64
	Compiler: gcc 8.3.1 20191121 (Red Hat 8.3.1-5)

Arch Linux
	Kernel: 5.4.0-73-generic
	Compiler: gcc 11.1.0

CentOS 8
	Kernel: 4.18.0-240.10.1.el8_3.x86_64
	Compiler: gcc 8.3.1 20191121 (Red Hat 8.3.1-5)

Ubuntu 20.04
	Kernel: 4.18.0-240.10.1.el8_3.x86_64
	Compiler: gcc 9.3.0-17ubuntu1~20.04

To view detailed results, visit:
https://lab.dpdk.org/results/dashboard/patchsets/17887/

UNH-IOL DPDK Community Lab

To manage your email subscriptions, visit: 
https://lab.dpdk.org/results/dashboard/preferences/subscriptions/


More information about the test-report mailing list