[dpdk-test-report] |SUCCESS| pw96071 [PATCH] [v8] dmadev: introduce DMA device library
dpdklab at iol.unh.edu
dpdklab at iol.unh.edu
Tue Jul 20 06:35:14 CEST 2021
Test-Label: iol-testing
Test-Status: SUCCESS
http://dpdk.org/patch/96071
_Testing PASS_
Submitter: Chengwen Feng <fengchengwen at huawei.com>
Date: Tuesday, July 20 2021 01:14:45
DPDK git baseline: Repo:dpdk
Branch: master
CommitID:761a321acf9111132f7789ac374e08a7ea7ea0f7
96071 --> testing pass
Test environment and result as below:
+------------------------------------+--------------------+----------------------+----------------+-------------------+
| Environment | dpdk_meson_compile | dpdk_mingw64_compile | dpdk_unit_test | dpdk_compile_spdk |
+====================================+====================+======================+================+===================+
| Fedora 31 | PASS | SKIPPED | PASS | SKIPPED |
+------------------------------------+--------------------+----------------------+----------------+-------------------+
| Ubuntu 20.04 ARM | PASS | SKIPPED | SKIPPED | SKIPPED |
+------------------------------------+--------------------+----------------------+----------------+-------------------+
| Windows Server 2019 | PASS | PASS | SKIPPED | SKIPPED |
+------------------------------------+--------------------+----------------------+----------------+-------------------+
| FreeBSD 13 | PASS | SKIPPED | SKIPPED | SKIPPED |
+------------------------------------+--------------------+----------------------+----------------+-------------------+
| Ubuntu 18.04 | PASS | SKIPPED | PASS | PASS |
+------------------------------------+--------------------+----------------------+----------------+-------------------+
| CentOS 8 | PASS | SKIPPED | PASS | SKIPPED |
+------------------------------------+--------------------+----------------------+----------------+-------------------+
| FreeBSD 11.2 | PASS | SKIPPED | SKIPPED | SKIPPED |
+------------------------------------+--------------------+----------------------+----------------+-------------------+
| CentOS Stream 8 | PASS | SKIPPED | PASS | SKIPPED |
+------------------------------------+--------------------+----------------------+----------------+-------------------+
| openSUSE Leap 15 | PASS | SKIPPED | PASS | SKIPPED |
+------------------------------------+--------------------+----------------------+----------------+-------------------+
| Fedora 32 | PASS | SKIPPED | PASS | SKIPPED |
+------------------------------------+--------------------+----------------------+----------------+-------------------+
| Ubuntu 20.04 | PASS | SKIPPED | PASS | SKIPPED |
+------------------------------------+--------------------+----------------------+----------------+-------------------+
| Arch Linux | PASS | SKIPPED | PASS | SKIPPED |
+------------------------------------+--------------------+----------------------+----------------+-------------------+
| Fedora 34 | PASS | SKIPPED | PASS | SKIPPED |
+------------------------------------+--------------------+----------------------+----------------+-------------------+
| RHEL8 | PASS | SKIPPED | PASS | SKIPPED |
+------------------------------------+--------------------+----------------------+----------------+-------------------+
| RHEL 7 | PASS | SKIPPED | PASS | SKIPPED |
+------------------------------------+--------------------+----------------------+----------------+-------------------+
| Fedora 33 | PASS | SKIPPED | PASS | SKIPPED |
+------------------------------------+--------------------+----------------------+----------------+-------------------+
| Alpine | PASS | SKIPPED | SKIPPED | SKIPPED |
+------------------------------------+--------------------+----------------------+----------------+-------------------+
| Ubuntu 20.04 ARM cross-compilation | PASS | SKIPPED | SKIPPED | SKIPPED |
+------------------------------------+--------------------+----------------------+----------------+-------------------+
| Fedora 34 clang | PASS | SKIPPED | PASS | SKIPPED |
+------------------------------------+--------------------+----------------------+----------------+-------------------+
Fedora 31
Kernel: 4.18.0-240.10.1.el8_3.x86_64
Compiler: gcc 9.3.1
Ubuntu 20.04 ARM
Kernel: 5.4.0-53-generic
Compiler: gcc 9.3
Windows Server 2019
Kernel: 10.0
Compiler: clang 9.0 and gcc 8.1.0 (MinGW)
FreeBSD 13
Kernel: 13.0
Compiler: clang 11.0.1
Ubuntu 18.04
Kernel: 4.18.0-240.10.1.el8_3.x86_64
Compiler: gcc 7.5.0-3ubuntu1~18.04
CentOS 8
Kernel: 4.18.0-240.10.1.el8_3.x86_64
Compiler: gcc 8.3.1 20191121 (Red Hat 8.3.1-5)
FreeBSD 11.2
Kernel: 11.2
Compiler: gcc 8.3
CentOS Stream 8
Kernel: 4.18.0-240.10.1.el8_3.x86_64
Compiler: gcc 8.4.1 20200928
openSUSE Leap 15
Kernel: 4.18.0-240.10.1.el8_3.x86_64
Compiler: gcc 7.5.0
Fedora 32
Kernel: 4.18.0-240.10.1.el8_3.x86_64
Compiler: gcc 10.2.1
Ubuntu 20.04
Kernel: 4.18.0-240.10.1.el8_3.x86_64
Compiler: gcc 9.3.0-17ubuntu1~20.04
Arch Linux
Kernel: 5.4.0-73-generic
Compiler: gcc 11.1.0
Fedora 34
Kernel: 5.4.0-72-generic
Compiler: gcc 11.1.1 20210428 (Red Hat 11.1.1-1)
RHEL8
Kernel: 4.18.0-240.10.1.el8_3.x86_64
Compiler: gcc 8.3.1 20191121 (Red Hat 8.3.1-5)
RHEL 7
Kernel: 4.18.0-240.10.1.el8_3.x86_64
Compiler: gcc 4.8.5 20150623 (Red Hat 4.8.5-44)
Fedora 33
Kernel: 5.4.0-72-generic
Compiler: gcc 10.3.1 20210422 (Red Hat 10.3.1-1)
Alpine
Kernel: 5.4.0-73-generic
Compiler: gcc (Alpine 10.3.1_git20210424) 10.3.1 20210424
Ubuntu 20.04 ARM cross-compilation
Kernel: 5.4.0-72-generic
Compiler: aarch64-linux-gnu-gcc (Ubuntu 9.3.0-17ubuntu1~20.04) 9.3.0
Fedora 34 clang
Kernel: 5.4.0-72-generic
Compiler: clang 12.0.0 (Fedora 12.0.0-0.3.rc1.fc34)
To view detailed results, visit:
https://lab.dpdk.org/results/dashboard/patchsets/17892/
UNH-IOL DPDK Community Lab
To manage your email subscriptions, visit:
https://lab.dpdk.org/results/dashboard/preferences/subscriptions/
More information about the test-report
mailing list