[dpdk-test-report] |SUCCESS| pw96287 [PATCH] app/test: quieten noise while forking

dpdklab at iol.unh.edu dpdklab at iol.unh.edu
Mon Jul 26 20:32:45 CEST 2021


Test-Label: iol-testing
Test-Status: SUCCESS
http://dpdk.org/patch/96287

_Testing PASS_

Submitter: John Levon <john.levon at nutanix.com>
Date: Monday, July 26 2021 12:17:08 
DPDK git baseline: Repo:dpdk
  Branch: master
  CommitID:02e077f35dbc9821dfcb32714ad1096a3ee58d08

96287 --> testing pass

Test environment and result as below:

+------------------------------------+----------------------+--------------------+-------------------+----------------+
|            Environment             | dpdk_mingw64_compile | dpdk_meson_compile | dpdk_compile_spdk | dpdk_unit_test |
+====================================+======================+====================+===================+================+
| Windows Server 2019                | PASS                 | PASS               | SKIPPED           | SKIPPED        |
+------------------------------------+----------------------+--------------------+-------------------+----------------+
| Ubuntu 20.04 ARM                   | SKIPPED              | PASS               | SKIPPED           | SKIPPED        |
+------------------------------------+----------------------+--------------------+-------------------+----------------+
| FreeBSD 11.2                       | SKIPPED              | PASS               | SKIPPED           | SKIPPED        |
+------------------------------------+----------------------+--------------------+-------------------+----------------+
| FreeBSD 13                         | SKIPPED              | PASS               | SKIPPED           | SKIPPED        |
+------------------------------------+----------------------+--------------------+-------------------+----------------+
| Fedora 31                          | SKIPPED              | PASS               | SKIPPED           | PASS           |
+------------------------------------+----------------------+--------------------+-------------------+----------------+
| Ubuntu 18.04                       | SKIPPED              | PASS               | PASS              | PASS           |
+------------------------------------+----------------------+--------------------+-------------------+----------------+
| openSUSE Leap 15                   | SKIPPED              | PASS               | SKIPPED           | PASS           |
+------------------------------------+----------------------+--------------------+-------------------+----------------+
| Fedora 32                          | SKIPPED              | PASS               | SKIPPED           | PASS           |
+------------------------------------+----------------------+--------------------+-------------------+----------------+
| Fedora 33                          | SKIPPED              | PASS               | SKIPPED           | PASS           |
+------------------------------------+----------------------+--------------------+-------------------+----------------+
| Ubuntu 20.04                       | SKIPPED              | PASS               | SKIPPED           | PASS           |
+------------------------------------+----------------------+--------------------+-------------------+----------------+
| CentOS Stream 8                    | SKIPPED              | PASS               | SKIPPED           | PASS           |
+------------------------------------+----------------------+--------------------+-------------------+----------------+
| CentOS 8                           | SKIPPED              | PASS               | SKIPPED           | PASS           |
+------------------------------------+----------------------+--------------------+-------------------+----------------+
| RHEL 7                             | SKIPPED              | PASS               | SKIPPED           | PASS           |
+------------------------------------+----------------------+--------------------+-------------------+----------------+
| Arch Linux                         | SKIPPED              | PASS               | SKIPPED           | PASS           |
+------------------------------------+----------------------+--------------------+-------------------+----------------+
| RHEL8                              | SKIPPED              | PASS               | SKIPPED           | PASS           |
+------------------------------------+----------------------+--------------------+-------------------+----------------+
| Alpine                             | SKIPPED              | PASS               | SKIPPED           | SKIPPED        |
+------------------------------------+----------------------+--------------------+-------------------+----------------+
| Ubuntu 20.04 ARM cross-compilation | SKIPPED              | PASS               | SKIPPED           | SKIPPED        |
+------------------------------------+----------------------+--------------------+-------------------+----------------+
| Fedora 34                          | SKIPPED              | PASS               | SKIPPED           | PASS           |
+------------------------------------+----------------------+--------------------+-------------------+----------------+
| Fedora 34 clang                    | SKIPPED              | PASS               | SKIPPED           | PASS           |
+------------------------------------+----------------------+--------------------+-------------------+----------------+


Windows Server 2019
	Kernel: 10.0
	Compiler: clang 9.0 and gcc 8.1.0 (MinGW)

Ubuntu 20.04 ARM
	Kernel: 5.4.0-53-generic
	Compiler: gcc 9.3

FreeBSD 11.2
	Kernel: 11.2
	Compiler: gcc 8.3

FreeBSD 13
	Kernel: 13.0
	Compiler: clang 11.0.1

Fedora 31
	Kernel: 4.18.0-240.10.1.el8_3.x86_64
	Compiler: gcc 9.3.1

Ubuntu 18.04
	Kernel: 4.18.0-240.10.1.el8_3.x86_64
	Compiler: gcc 7.5.0-3ubuntu1~18.04

openSUSE Leap 15
	Kernel: 4.18.0-240.10.1.el8_3.x86_64
	Compiler: gcc 7.5.0

Fedora 32
	Kernel: 4.18.0-240.10.1.el8_3.x86_64
	Compiler: gcc 10.2.1

Fedora 33
	Kernel: 5.4.0-72-generic
	Compiler: gcc 10.3.1 20210422 (Red Hat 10.3.1-1)

Ubuntu 20.04
	Kernel: 4.18.0-240.10.1.el8_3.x86_64
	Compiler: gcc 9.3.0-17ubuntu1~20.04

CentOS Stream 8
	Kernel: 4.18.0-240.10.1.el8_3.x86_64
	Compiler: gcc 8.4.1 20200928

CentOS 8
	Kernel: 4.18.0-240.10.1.el8_3.x86_64
	Compiler: gcc 8.3.1 20191121 (Red Hat 8.3.1-5)

RHEL 7
	Kernel: 4.18.0-240.10.1.el8_3.x86_64
	Compiler: gcc 4.8.5 20150623 (Red Hat 4.8.5-44)

Arch Linux
	Kernel: 5.4.0-73-generic
	Compiler: gcc 11.1.0

RHEL8
	Kernel: 4.18.0-240.10.1.el8_3.x86_64
	Compiler: gcc 8.3.1 20191121 (Red Hat 8.3.1-5)

Alpine
	Kernel: 5.4.0-73-generic
	Compiler: gcc (Alpine 10.3.1_git20210424) 10.3.1 20210424

Ubuntu 20.04 ARM cross-compilation
	Kernel: 5.4.0-72-generic
	Compiler: aarch64-linux-gnu-gcc (Ubuntu 9.3.0-17ubuntu1~20.04) 9.3.0

Fedora 34
	Kernel: 5.4.0-72-generic
	Compiler: gcc 11.1.1 20210428 (Red Hat 11.1.1-1)

Fedora 34 clang
	Kernel: 5.4.0-72-generic
	Compiler: clang 12.0.0 (Fedora 12.0.0-0.3.rc1.fc34)

To view detailed results, visit:
https://lab.dpdk.org/results/dashboard/patchsets/17979/

UNH-IOL DPDK Community Lab

To manage your email subscriptions, visit: 
https://lab.dpdk.org/results/dashboard/preferences/subscriptions/


More information about the test-report mailing list