[dpdk-test-report] |SUCCESS| pw93745-93748 [PATCH] [v2, 4/4] net/iavf: support AVF FDIR for GRE tunnel packet
dpdklab at iol.unh.edu
dpdklab at iol.unh.edu
Wed Jun 2 06:18:53 CEST 2021
Test-Label: iol-abi-testing
Test-Status: SUCCESS
http://dpdk.org/patch/93748
_Testing PASS_
Submitter: Wenjun Wu <wenjun1.wu at intel.com>
Date: Wednesday, June 02 2021 02:24:42
DPDK git baseline: Repo:dpdk
Branch: master
CommitID:66b3a54b9feab193a5cf8ad54606d745078587cc
93745-93748 --> testing pass
Test environment and result as below:
+------------------+----------+
| Environment | abi_test |
+==================+==========+
| Ubuntu 18.04 ARM | PASS |
+------------------+----------+
| Ubuntu 18.04 | PASS |
+------------------+----------+
| RHEL 7 | PASS |
+------------------+----------+
| RHEL8 | PASS |
+------------------+----------+
| CentOS 8 | PASS |
+------------------+----------+
| Arch Linux | PASS |
+------------------+----------+
| Ubuntu 20.04 | PASS |
+------------------+----------+
| Fedora 32 | PASS |
+------------------+----------+
| CentOS Stream 8 | PASS |
+------------------+----------+
| Ubuntu20.04 | PASS |
+------------------+----------+
| openSUSE Leap 15 | PASS |
+------------------+----------+
| Fedora 31 | PASS |
+------------------+----------+
Ubuntu 18.04 ARM
Kernel: 5.4.0-53-generic
Compiler: gcc 9.3
Ubuntu 18.04
Kernel: 4.18.0-240.10.1.el8_3.x86_64
Compiler: gcc 7.5.0-3ubuntu1~18.04
RHEL 7
Kernel: 4.18.0-240.10.1.el8_3.x86_64
Compiler: gcc 4.8.5 20150623 (Red Hat 4.8.5-44)
RHEL8
Kernel: 4.18.0-240.10.1.el8_3.x86_64
Compiler: gcc 8.3.1 20191121 (Red Hat 8.3.1-5)
CentOS 8
Kernel: 4.18.0-240.10.1.el8_3.x86_64
Compiler: gcc 8.3.1 20191121 (Red Hat 8.3.1-5)
Arch Linux
Kernel: 4.18.0-240.10.1.el8_3.x86_64
Compiler: gcc 10.2.0
Ubuntu 20.04
Kernel: 4.18.0-240.10.1.el8_3.x86_64
Compiler: gcc 9.3.0-17ubuntu1~20.04
Fedora 32
Kernel: 4.18.0-240.10.1.el8_3.x86_64
Compiler: gcc 10.2.1
CentOS Stream 8
Kernel: 4.18.0-240.10.1.el8_3.x86_64
Compiler: gcc 8.4.1 20200928
Ubuntu20.04
Kernel: 5.4.0-72-generic
Compiler: aarch64-linux-gnu-gcc (Ubuntu 9.3.0-17ubuntu1~20.04) 9.3.0
openSUSE Leap 15
Kernel: 4.18.0-240.10.1.el8_3.x86_64
Compiler: gcc 7.5.0
Fedora 31
Kernel: 4.18.0-240.10.1.el8_3.x86_64
Compiler: gcc 9.3.1
To view detailed results, visit:
https://lab.dpdk.org/results/dashboard/patchsets/17282/
UNH-IOL DPDK Community Lab
To manage your email subscriptions, visit:
https://lab.dpdk.org/results/dashboard/preferences/subscriptions/
More information about the test-report
mailing list