[dpdk-test-report] |SUCCESS| pw88923 [PATCH] examples/packet_ordering: use local port config
dpdklab at iol.unh.edu
dpdklab at iol.unh.edu
Sat Mar 13 13:06:32 CET 2021
Test-Label: iol-testing
Test-Status: SUCCESS
http://dpdk.org/patch/88923
_Testing PASS_
Submitter: Yu, DapengX <dapengx.yu at intel.com>
Date: Thursday, March 11 2021 06:36:54
DPDK git baseline: Repo:dpdk
Branch: master
CommitID:1e28e842e08428ff5716fbe909bf5acd0365aaf6
88923 --> testing pass
Test environment and result as below:
+---------------------+-------------------+----------------------+--------------------+----------------+
| Environment | dpdk_compile_spdk | dpdk_mingw64_compile | dpdk_meson_compile | dpdk_unit_test |
+=====================+===================+======================+====================+================+
| Fedora 31 | PASS | SKIPPED | PASS | SKIPPED |
+---------------------+-------------------+----------------------+--------------------+----------------+
| Ubuntu 18.04 | PASS | SKIPPED | PASS | PASS |
+---------------------+-------------------+----------------------+--------------------+----------------+
| Windows Server 2019 | SKIPPED | PASS | PASS | SKIPPED |
+---------------------+-------------------+----------------------+--------------------+----------------+
| CentOS 8 | SKIPPED | SKIPPED | PASS | SKIPPED |
+---------------------+-------------------+----------------------+--------------------+----------------+
| FreeBSD 11.2 | SKIPPED | SKIPPED | PASS | SKIPPED |
+---------------------+-------------------+----------------------+--------------------+----------------+
| Fedora 32 | SKIPPED | SKIPPED | PASS | SKIPPED |
+---------------------+-------------------+----------------------+--------------------+----------------+
| RHEL 7 | SKIPPED | SKIPPED | PASS | SKIPPED |
+---------------------+-------------------+----------------------+--------------------+----------------+
| Ubuntu 18.04 ARM | SKIPPED | SKIPPED | PASS | PASS |
+---------------------+-------------------+----------------------+--------------------+----------------+
| openSUSE Leap 15 | SKIPPED | SKIPPED | PASS | SKIPPED |
+---------------------+-------------------+----------------------+--------------------+----------------+
| RHEL8 | SKIPPED | SKIPPED | PASS | SKIPPED |
+---------------------+-------------------+----------------------+--------------------+----------------+
| Arch Linux | SKIPPED | SKIPPED | PASS | SKIPPED |
+---------------------+-------------------+----------------------+--------------------+----------------+
==== 20 line log output for Fedora 31 (dpdk_compile_spdk): ====
An uncaught exception was raised. We may already know about the issue. If your patch is not run again after one business day, feel free to contact us to let us know.
Traceback (most recent call last):
File "/opt/dpdklab/dpdklab-ci/compile_spdk_with_podman.py", line 47, in <module>
raise e
File "/opt/dpdklab/dpdklab-ci/compile_spdk_with_podman.py", line 40, in <module>
compile_spdk.build()
File "/opt/dpdklab/dpdklab-ci/compile_spdk_with_podman.py", line 22, in build
self.build_dpdk_and_check()
File "/opt/dpdklab/dpdklab-ci/compile_spdk.py", line 31, in build_dpdk_and_check
super().build()
File "/opt/dpdklab/dpdklab-ci/compile_meson_with_podman.py", line 31, in build
self.image_build(image)
File "/opt/dpdklab/dpdklab-ci/ci.py", line 208, in image_build
cwd=script_dir + '/containers')
File "/opt/dpdklab/dpdklab-ci/ci.py", line 186, in check_call
subprocess.check_call(command, **kwargs)
File "/usr/lib64/python3.7/subprocess.py", line 363, in check_call
raise CalledProcessError(retcode, cmd)
subprocess.CalledProcessError: Command '('podman', 'build', '-t', 'fedora31/dpdk_compile', '-f', 'fedora31/dpdk_compile.Dockerfile', '.')' returned non-zero exit status 125.
==== End log output ====
Fedora 31
Kernel: 5.3.16
Compiler: gcc 9.2.1
Ubuntu 18.04
Kernel: 4.15.0-generic
Compiler: gcc 7.5
Windows Server 2019
Kernel: 10.0
Compiler: clang 9.0 and gcc 8.1.0 (MinGW)
CentOS 8
Kernel: 4.18.0.el8_0
Compiler: gcc 8.3.1
FreeBSD 11.2
Kernel: 11.2
Compiler: gcc 8.3
Fedora 32
Kernel: 4.18.0-240.10.1.el8_3.x86_64
Compiler: gcc 10.2.1
RHEL 7
Kernel: 4.18.0-240.10.1.el8_3.x86_64
Compiler: gcc 4.8.5 20150623 (Red Hat 4.8.5-44)
Ubuntu 18.04 ARM
Kernel: 5.4.0-53-generic
Compiler: gcc 9.3
openSUSE Leap 15
Kernel: 4.12.14
Compiler: gcc 7.4.1
RHEL8
Kernel: 4.18.0-240.10.1.el8_3.x86_64
Compiler: gcc 8.3.1 20191121 (Red Hat 8.3.1-5)
Arch Linux
Kernel: latest
Compiler: gcc latest
To view detailed results, visit:
https://lab.dpdk.org/results/dashboard/patchsets/15891/
UNH-IOL DPDK Community Lab
To manage your email subscriptions, visit:
https://lab.dpdk.org/results/dashboard/preferences/subscriptions/
More information about the test-report
mailing list