[dpdk-test-report] |SUCCESS| pw89479-89477 [PATCH] [2/2] net/mlx5: workaround counter memory region creation

dpdklab at iol.unh.edu dpdklab at iol.unh.edu
Fri Mar 19 16:42:08 CET 2021


Test-Label: iol-testing
Test-Status: SUCCESS
http://dpdk.org/patch/89477

_Testing PASS_

Submitter: Michael Baum <michaelba at nvidia.com>
Date: Thursday, March 18 2021 09:56:08 
DPDK git baseline: Repo:dpdk-next-net-mlx
  Branch: master
  CommitID:94057b723509ee9c5c055deb0a93a99aff5392bc

89479-89477 --> testing pass

Test environment and result as below:

+---------------------+--------------------+----------------------+-------------------+----------------+
|     Environment     | dpdk_meson_compile | dpdk_mingw64_compile | dpdk_compile_spdk | dpdk_unit_test |
+=====================+====================+======================+===================+================+
| Windows Server 2019 | PASS               | PASS                 | SKIPPED           | SKIPPED        |
+---------------------+--------------------+----------------------+-------------------+----------------+
| Fedora 32           | PASS               | SKIPPED              | SKIPPED           | SKIPPED        |
+---------------------+--------------------+----------------------+-------------------+----------------+
| RHEL 7              | PASS               | SKIPPED              | SKIPPED           | SKIPPED        |
+---------------------+--------------------+----------------------+-------------------+----------------+
| RHEL8               | PASS               | SKIPPED              | SKIPPED           | SKIPPED        |
+---------------------+--------------------+----------------------+-------------------+----------------+
| CentOS 8            | PASS               | SKIPPED              | SKIPPED           | SKIPPED        |
+---------------------+--------------------+----------------------+-------------------+----------------+
| Ubuntu 18.04        | PASS               | SKIPPED              | PASS              | PASS           |
+---------------------+--------------------+----------------------+-------------------+----------------+
| FreeBSD 11.2        | PASS               | SKIPPED              | SKIPPED           | SKIPPED        |
+---------------------+--------------------+----------------------+-------------------+----------------+
| openSUSE Leap 15    | PASS               | SKIPPED              | SKIPPED           | SKIPPED        |
+---------------------+--------------------+----------------------+-------------------+----------------+
| Ubuntu 18.04 ARM    | PASS               | SKIPPED              | SKIPPED           | PASS           |
+---------------------+--------------------+----------------------+-------------------+----------------+
| Arch Linux          | PASS               | SKIPPED              | SKIPPED           | SKIPPED        |
+---------------------+--------------------+----------------------+-------------------+----------------+
| Fedora 31           | PASS               | SKIPPED              | PASS              | SKIPPED        |
+---------------------+--------------------+----------------------+-------------------+----------------+


Windows Server 2019
	Kernel: 10.0
	Compiler: clang 9.0 and gcc 8.1.0 (MinGW)

Fedora 32
	Kernel: 4.18.0-240.10.1.el8_3.x86_64
	Compiler: gcc 10.2.1

RHEL 7
	Kernel: 4.18.0-240.10.1.el8_3.x86_64
	Compiler: gcc 4.8.5 20150623 (Red Hat 4.8.5-44)

RHEL8
	Kernel: 4.18.0-240.10.1.el8_3.x86_64
	Compiler: gcc 8.3.1 20191121 (Red Hat 8.3.1-5)

CentOS 8
	Kernel: 4.18.0.el8_0
	Compiler: gcc 8.3.1

Ubuntu 18.04
	Kernel: 4.15.0-generic
	Compiler: gcc 7.5

FreeBSD 11.2
	Kernel: 11.2
	Compiler: gcc 8.3

openSUSE Leap 15
	Kernel: 4.12.14
	Compiler: gcc 7.4.1

Ubuntu 18.04 ARM
	Kernel: 5.4.0-53-generic
	Compiler: gcc 9.3

Arch Linux
	Kernel: latest
	Compiler: gcc latest

Fedora 31
	Kernel: 5.3.16
	Compiler: gcc 9.2.1

To view detailed results, visit:
https://lab.dpdk.org/results/dashboard/patchsets/16032/

UNH-IOL DPDK Community Lab

To manage your email subscriptions, visit: 
https://lab.dpdk.org/results/dashboard/preferences/subscriptions/


More information about the test-report mailing list