[dpdk-test-report] |SUCCESS| pw93334 [PATCH] [v4] crypto/qat: fix uninitilized gcc compiler warning
dpdklab at iol.unh.edu
dpdklab at iol.unh.edu
Thu May 20 11:48:51 CEST 2021
Test-Label: iol-abi-testing
Test-Status: SUCCESS
http://dpdk.org/patch/93334
_Testing PASS_
Submitter: Feifei Wang <feifei.wang2 at arm.com>
Date: Thursday, May 20 2021 08:43:33
DPDK git baseline: Repo:dpdk
Branch: master
CommitID:1aee2359457b58c42ce9224a4705a61d6bbc31f8
93334 --> testing pass
Test environment and result as below:
+------------------+----------+
| Environment | abi_test |
+==================+==========+
| RHEL8 | PASS |
+------------------+----------+
| Ubuntu 18.04 ARM | PASS |
+------------------+----------+
| Arch Linux | PASS |
+------------------+----------+
| CentOS 8 | PASS |
+------------------+----------+
| Ubuntu 18.04 | PASS |
+------------------+----------+
| Ubuntu 20.04 | PASS |
+------------------+----------+
| RHEL 7 | PASS |
+------------------+----------+
| Fedora 31 | PASS |
+------------------+----------+
| Fedora 32 | PASS |
+------------------+----------+
| CentOS Stream 8 | PASS |
+------------------+----------+
| openSUSE Leap 15 | PASS |
+------------------+----------+
RHEL8
Kernel: 4.18.0-240.10.1.el8_3.x86_64
Compiler: gcc 8.3.1 20191121 (Red Hat 8.3.1-5)
Ubuntu 18.04 ARM
Kernel: 5.4.0-53-generic
Compiler: gcc 9.3
Arch Linux
Kernel: 4.18.0-240.10.1.el8_3.x86_64
Compiler: gcc 10.2.0
CentOS 8
Kernel: 4.18.0-240.10.1.el8_3.x86_64
Compiler: gcc 8.3.1 20191121 (Red Hat 8.3.1-5)
Ubuntu 18.04
Kernel: 4.18.0-240.10.1.el8_3.x86_64
Compiler: gcc 7.5.0-3ubuntu1~18.04
Ubuntu 20.04
Kernel: 4.18.0-240.10.1.el8_3.x86_64
Compiler: gcc 9.3.0-17ubuntu1~20.04
RHEL 7
Kernel: 4.18.0-240.10.1.el8_3.x86_64
Compiler: gcc 4.8.5 20150623 (Red Hat 4.8.5-44)
Fedora 31
Kernel: 4.18.0-240.10.1.el8_3.x86_64
Compiler: gcc 9.3.1
Fedora 32
Kernel: 4.18.0-240.10.1.el8_3.x86_64
Compiler: gcc 10.2.1
CentOS Stream 8
Kernel: 4.18.0-240.10.1.el8_3.x86_64
Compiler: gcc 8.4.1 20200928
openSUSE Leap 15
Kernel: 4.18.0-240.10.1.el8_3.x86_64
Compiler: gcc 7.5.0
To view detailed results, visit:
https://lab.dpdk.org/results/dashboard/patchsets/17142/
UNH-IOL DPDK Community Lab
To manage your email subscriptions, visit:
https://lab.dpdk.org/results/dashboard/preferences/subscriptions/
More information about the test-report
mailing list