[dpdk-test-report] |SUCCESS| [GIT MASTER] b043b86d79cb52d0aef056af11df6a8495e2a9f9
    dpdklab at iol.unh.edu 
    dpdklab at iol.unh.edu
       
    Fri May 21 16:57:07 CEST 2021
    
    
  
_Testing PASS_
Branch: dpdk-next-net
b043b86d79cb52d0aef056af11df6a8495e2a9f9 --> testing pass
Test environment and result as below:
+---------------------+----------------------+-------------------+--------------------+----------------+
|     Environment     | dpdk_mingw64_compile | dpdk_compile_spdk | dpdk_meson_compile | dpdk_unit_test |
+=====================+======================+===================+====================+================+
| Windows Server 2019 | PASS                 | SKIPPED           | PASS               | SKIPPED        |
+---------------------+----------------------+-------------------+--------------------+----------------+
| Ubuntu 18.04        | SKIPPED              | PASS              | PASS               | PASS           |
+---------------------+----------------------+-------------------+--------------------+----------------+
| Fedora 31           | SKIPPED              | SKIPPED           | PASS               | PASS           |
+---------------------+----------------------+-------------------+--------------------+----------------+
| CentOS 8            | SKIPPED              | SKIPPED           | PASS               | PASS           |
+---------------------+----------------------+-------------------+--------------------+----------------+
| Ubuntu 20.04        | SKIPPED              | SKIPPED           | PASS               | SKIPPED        |
+---------------------+----------------------+-------------------+--------------------+----------------+
| CentOS Stream 8     | SKIPPED              | SKIPPED           | PASS               | PASS           |
+---------------------+----------------------+-------------------+--------------------+----------------+
| RHEL8               | SKIPPED              | SKIPPED           | PASS               | PASS           |
+---------------------+----------------------+-------------------+--------------------+----------------+
| Arch Linux          | SKIPPED              | SKIPPED           | PASS               | PASS           |
+---------------------+----------------------+-------------------+--------------------+----------------+
| Fedora 32           | SKIPPED              | SKIPPED           | PASS               | PASS           |
+---------------------+----------------------+-------------------+--------------------+----------------+
| RHEL 7              | SKIPPED              | SKIPPED           | PASS               | PASS           |
+---------------------+----------------------+-------------------+--------------------+----------------+
| FreeBSD 11.2        | SKIPPED              | SKIPPED           | PASS               | SKIPPED        |
+---------------------+----------------------+-------------------+--------------------+----------------+
| openSUSE Leap 15    | SKIPPED              | SKIPPED           | PASS               | PASS           |
+---------------------+----------------------+-------------------+--------------------+----------------+
| Ubuntu 18.04 ARM    | SKIPPED              | SKIPPED           | PASS               | PASS           |
+---------------------+----------------------+-------------------+--------------------+----------------+
Windows Server 2019
	Kernel: 10.0
	Compiler: clang 9.0 and gcc 8.1.0 (MinGW)
Ubuntu 18.04
	Kernel: 4.18.0-240.10.1.el8_3.x86_64
	Compiler: gcc 7.5.0-3ubuntu1~18.04
Fedora 31
	Kernel: 4.18.0-240.10.1.el8_3.x86_64
	Compiler: gcc 9.3.1
CentOS 8
	Kernel: 4.18.0-240.10.1.el8_3.x86_64
	Compiler: gcc 8.3.1 20191121 (Red Hat 8.3.1-5)
Ubuntu 20.04
	Kernel: 4.18.0-240.10.1.el8_3.x86_64
	Compiler: gcc 9.3.0-17ubuntu1~20.04
CentOS Stream 8
	Kernel: 4.18.0-240.10.1.el8_3.x86_64
	Compiler: gcc 8.4.1 20200928
RHEL8
	Kernel: 4.18.0-240.10.1.el8_3.x86_64
	Compiler: gcc 8.3.1 20191121 (Red Hat 8.3.1-5)
Arch Linux
	Kernel: 4.18.0-240.10.1.el8_3.x86_64
	Compiler: gcc 10.2.0
Fedora 32
	Kernel: 4.18.0-240.10.1.el8_3.x86_64
	Compiler: gcc 10.2.1
RHEL 7
	Kernel: 4.18.0-240.10.1.el8_3.x86_64
	Compiler: gcc 4.8.5 20150623 (Red Hat 4.8.5-44)
FreeBSD 11.2
	Kernel: 11.2
	Compiler: gcc 8.3
openSUSE Leap 15
	Kernel: 4.18.0-240.10.1.el8_3.x86_64
	Compiler: gcc 7.5.0
Ubuntu 18.04 ARM
	Kernel: 5.4.0-53-generic
	Compiler: gcc 9.3
To view detailed results, visit:
https://lab.dpdk.org/results/dashboard/tarballs/15271/
UNH-IOL DPDK Community Lab
To manage your email subscriptions, visit: 
https://lab.dpdk.org/results/dashboard/preferences/subscriptions/
    
    
More information about the test-report
mailing list