|SUCCESS| pw104406 [PATCH] common/mlx5: fix redundant field in MR control structure
dpdklab at iol.unh.edu
dpdklab at iol.unh.edu
Tue Nov 16 22:18:24 CET 2021
Test-Label: iol-aarch64-compile-testing
Test-Status: SUCCESS
http://dpdk.org/patch/104406
_Testing PASS_
Submitter: Michael Baum <michaelba at nvidia.com>
Date: Tuesday, November 16 2021 14:36:35
DPDK git baseline: Repo:dpdk
Branch: master
CommitID:d4fb4eb08725a3e667042c1f5cd3ed72b94505a7
104406 --> testing pass
Test environment and result as below:
+--------------------------------------+--------------------+
| Environment | dpdk_meson_compile |
+======================================+====================+
| Ubuntu 20.04 ARM | PASS |
+--------------------------------------+--------------------+
| Ubuntu 20.04 ARM clang cross-compile | PASS |
+--------------------------------------+--------------------+
| Ubuntu 20.04 ARM gcc cross-compile | PASS |
+--------------------------------------+--------------------+
| Ubuntu 20.04 ARM SVE | PASS |
+--------------------------------------+--------------------+
Ubuntu 20.04 ARM
Kernel: 5.4.0-53-generic
Compiler: gcc 9.3
Ubuntu 20.04 ARM clang cross-compile
Kernel: 5.4.0-72-generic
Compiler: clang version 10.0.0-4ubuntu1
Ubuntu 20.04 ARM gcc cross-compile
Kernel: 5.4.0-72-generic
Compiler: aarch64-linux-gnu-gcc (Ubuntu 9.3.0-17ubuntu1~20.04) 9.3.0
Ubuntu 20.04 ARM SVE
Kernel: 5.4.0-80-generic
Compiler: gcc 10.3.0 (Ubuntu 10.3.0-1ubuntu1~20.04)
To view detailed results, visit:
https://lab.dpdk.org/results/dashboard/patchsets/20238/
UNH-IOL DPDK Community Lab
To manage your email subscriptions, visit:
https://lab.dpdk.org/results/dashboard/preferences/subscriptions/
More information about the test-report
mailing list