|SUCCESS| pw104485 [PATCH] [v2] app/test-gpudev: remove memory leaks in case of errors
dpdklab at iol.unh.edu
dpdklab at iol.unh.edu
Thu Nov 18 06:53:00 CET 2021
Test-Label: iol-aarch64-compile-testing
Test-Status: SUCCESS
http://dpdk.org/patch/104485
_Testing PASS_
Submitter: Elena Agostini <eagostini at nvidia.com>
Date: Thursday, November 18 2021 01:23:51
DPDK git baseline: Repo:dpdk
Branch: master
CommitID:0c6e27549c03695f85d949f5195a166b449b419c
104485 --> testing pass
Test environment and result as below:
+--------------------------------------+--------------------+
| Environment | dpdk_meson_compile |
+======================================+====================+
| Ubuntu 20.04 ARM | PASS |
+--------------------------------------+--------------------+
| Ubuntu 20.04 ARM SVE | PASS |
+--------------------------------------+--------------------+
| Ubuntu 20.04 ARM clang cross-compile | PASS |
+--------------------------------------+--------------------+
| Ubuntu 20.04 ARM gcc cross-compile | PASS |
+--------------------------------------+--------------------+
Ubuntu 20.04 ARM
Kernel: 5.4.0-53-generic
Compiler: gcc 9.3
Ubuntu 20.04 ARM SVE
Kernel: 5.4.0-80-generic
Compiler: gcc 10.3.0 (Ubuntu 10.3.0-1ubuntu1~20.04)
Ubuntu 20.04 ARM clang cross-compile
Kernel: 5.4.0-72-generic
Compiler: clang version 10.0.0-4ubuntu1
Ubuntu 20.04 ARM gcc cross-compile
Kernel: 5.4.0-72-generic
Compiler: aarch64-linux-gnu-gcc (Ubuntu 9.3.0-17ubuntu1~20.04) 9.3.0
To view detailed results, visit:
https://lab.dpdk.org/results/dashboard/patchsets/20268/
UNH-IOL DPDK Community Lab
To manage your email subscriptions, visit:
https://lab.dpdk.org/results/dashboard/preferences/subscriptions/
More information about the test-report
mailing list