|SUCCESS| pw104681 [PATCH] [v4] kni: allow configuring the kni thread granularity

dpdklab at iol.unh.edu dpdklab at iol.unh.edu
Wed Nov 24 21:37:01 CET 2021


Test-Label: iol-aarch64-compile-testing
Test-Status: SUCCESS
http://dpdk.org/patch/104681

_Testing PASS_

Submitter: Tudor Cornea <tudor.cornea at gmail.com>
Date: Wednesday, November 24 2021 19:24:14 
DPDK git baseline: Repo:dpdk
  Branch: master
  CommitID:0c6e27549c03695f85d949f5195a166b449b419c

104681 --> testing pass

Test environment and result as below:

+--------------------------------------+--------------------+
|             Environment              | dpdk_meson_compile |
+======================================+====================+
| Ubuntu 20.04 ARM                     | PASS               |
+--------------------------------------+--------------------+
| Ubuntu 20.04 ARM gcc cross-compile   | PASS               |
+--------------------------------------+--------------------+
| Ubuntu 20.04 ARM SVE                 | PASS               |
+--------------------------------------+--------------------+
| Ubuntu 20.04 ARM clang cross-compile | PASS               |
+--------------------------------------+--------------------+


Ubuntu 20.04 ARM
	Kernel: 5.4.0-72-generic
	Compiler: gcc 9.3.0

Ubuntu 20.04 ARM gcc cross-compile
	Kernel: 5.4.0-72-generic
	Compiler: aarch64-linux-gnu-gcc (Ubuntu 9.3.0-17ubuntu1~20.04) 9.3.0

Ubuntu 20.04 ARM SVE
	Kernel: 5.4.0-80-generic
	Compiler: gcc 10.3.0 (Ubuntu 10.3.0-1ubuntu1~20.04)

Ubuntu 20.04 ARM clang cross-compile
	Kernel: 5.4.0-72-generic
	Compiler: clang version 10.0.0-4ubuntu1

To view detailed results, visit:
https://lab.dpdk.org/results/dashboard/patchsets/20369/

UNH-IOL DPDK Community Lab

To manage your email subscriptions, visit: 
https://lab.dpdk.org/results/dashboard/preferences/subscriptions/


More information about the test-report mailing list