|SUCCESS| pw104698 [PATCH] net/tap: Bug fix to populate fds in secondary process
dpdklab at iol.unh.edu
dpdklab at iol.unh.edu
Thu Nov 25 14:09:57 CET 2021
Test-Label: iol-aarch64-compile-testing
Test-Status: SUCCESS
http://dpdk.org/patch/104698
_Testing PASS_
Submitter: Kumara Parameshwaran <kumaraparamesh92 at gmail.com>
Date: Thursday, November 25 2021 12:04:20
DPDK git baseline: Repo:dpdk
Branch: master
CommitID:872c6a28075ccae66a31affef7ae3c5e9811affc
104698 --> testing pass
Test environment and result as below:
+--------------------------------------+--------------------+
| Environment | dpdk_meson_compile |
+======================================+====================+
| Ubuntu 20.04 ARM | PASS |
+--------------------------------------+--------------------+
| Ubuntu 20.04 ARM gcc cross-compile | PASS |
+--------------------------------------+--------------------+
| Ubuntu 20.04 ARM SVE | PASS |
+--------------------------------------+--------------------+
| Ubuntu 20.04 ARM clang cross-compile | PASS |
+--------------------------------------+--------------------+
Ubuntu 20.04 ARM
Kernel: 5.4.0-72-generic
Compiler: gcc 9.3.0
Ubuntu 20.04 ARM gcc cross-compile
Kernel: 5.4.0-72-generic
Compiler: aarch64-linux-gnu-gcc (Ubuntu 9.3.0-17ubuntu1~20.04) 9.3.0
Ubuntu 20.04 ARM SVE
Kernel: 5.4.0-80-generic
Compiler: gcc 10.3.0 (Ubuntu 10.3.0-1ubuntu1~20.04)
Ubuntu 20.04 ARM clang cross-compile
Kernel: 5.4.0-72-generic
Compiler: clang version 10.0.0-4ubuntu1
To view detailed results, visit:
https://lab.dpdk.org/results/dashboard/patchsets/20375/
UNH-IOL DPDK Community Lab
To manage your email subscriptions, visit:
https://lab.dpdk.org/results/dashboard/preferences/subscriptions/
More information about the test-report
mailing list