|SUCCESS| [GIT MASTER] bef7c9ff285a90373f3f409e2c21d1263ed0f548
dpdklab at iol.unh.edu
dpdklab at iol.unh.edu
Fri Nov 26 20:46:43 CET 2021
_Testing PASS_
Branch: dpdk-next-net
bef7c9ff285a90373f3f409e2c21d1263ed0f548 --> testing pass
Test environment and result as below:
+--------------------------------------+--------------------+
| Environment | dpdk_meson_compile |
+======================================+====================+
| Ubuntu 20.04 ARM | PASS |
+--------------------------------------+--------------------+
| Ubuntu 20.04 ARM gcc cross-compile | PASS |
+--------------------------------------+--------------------+
| Ubuntu 20.04 ARM SVE | PASS |
+--------------------------------------+--------------------+
| Ubuntu 20.04 ARM clang cross-compile | PASS |
+--------------------------------------+--------------------+
Ubuntu 20.04 ARM
Kernel: 5.4.0-72-generic
Compiler: gcc 9.3.0
Ubuntu 20.04 ARM gcc cross-compile
Kernel: 5.4.0-72-generic
Compiler: aarch64-linux-gnu-gcc (Ubuntu 9.3.0-17ubuntu1~20.04) 9.3.0
Ubuntu 20.04 ARM SVE
Kernel: 5.4.0-80-generic
Compiler: gcc 10.3.0 (Ubuntu 10.3.0-1ubuntu1~20.04)
Ubuntu 20.04 ARM clang cross-compile
Kernel: 5.4.0-72-generic
Compiler: clang version 10.0.0-4ubuntu1
To view detailed results, visit:
https://lab.dpdk.org/results/dashboard/tarballs/18025/
UNH-IOL DPDK Community Lab
To manage your email subscriptions, visit:
https://lab.dpdk.org/results/dashboard/preferences/subscriptions/
More information about the test-report
mailing list