[dpdk-test-report] |SUCCESS| pw101371 [PATCH] [v5] cryptodev: add telemetry callbacks
dpdklab at iol.unh.edu
dpdklab at iol.unh.edu
Wed Oct 13 18:34:30 CEST 2021
Test-Label: iol-x86_64-compile-testing
Test-Status: SUCCESS
http://dpdk.org/patch/101371
_Testing PASS_
Submitter: Rebecca Troy <rebecca.troy at intel.com>
Date: Wednesday, October 13 2021 15:22:05
DPDK git baseline: Repo:dpdk
Branch: master
CommitID:2f3758751b157760ebb6fc51cd92841073bb115c
101371 --> testing pass
Test environment and result as below:
+---------------------+----------------------+--------------------+-------------------+
| Environment | dpdk_mingw64_compile | dpdk_meson_compile | dpdk_compile_spdk |
+=====================+======================+====================+===================+
| Windows Server 2019 | PASS | PASS | SKIPPED |
+---------------------+----------------------+--------------------+-------------------+
| Fedora 31 | SKIPPED | PASS | SKIPPED |
+---------------------+----------------------+--------------------+-------------------+
| FreeBSD 13 | SKIPPED | PASS | SKIPPED |
+---------------------+----------------------+--------------------+-------------------+
| Fedora 32 | SKIPPED | PASS | SKIPPED |
+---------------------+----------------------+--------------------+-------------------+
| openSUSE Leap 15 | SKIPPED | PASS | SKIPPED |
+---------------------+----------------------+--------------------+-------------------+
| CentOS Stream 8 | SKIPPED | PASS | SKIPPED |
+---------------------+----------------------+--------------------+-------------------+
| RHEL8 | SKIPPED | PASS | SKIPPED |
+---------------------+----------------------+--------------------+-------------------+
| RHEL 7 | SKIPPED | PASS | SKIPPED |
+---------------------+----------------------+--------------------+-------------------+
| Ubuntu 18.04 | SKIPPED | PASS | PASS |
+---------------------+----------------------+--------------------+-------------------+
| CentOS 8 | SKIPPED | PASS | SKIPPED |
+---------------------+----------------------+--------------------+-------------------+
| Fedora 34 | SKIPPED | PASS | SKIPPED |
+---------------------+----------------------+--------------------+-------------------+
| Arch Linux | SKIPPED | PASS | SKIPPED |
+---------------------+----------------------+--------------------+-------------------+
| Fedora 33 | SKIPPED | PASS | SKIPPED |
+---------------------+----------------------+--------------------+-------------------+
| Ubuntu 20.04 | SKIPPED | PASS | SKIPPED |
+---------------------+----------------------+--------------------+-------------------+
| Alpine | SKIPPED | PASS | SKIPPED |
+---------------------+----------------------+--------------------+-------------------+
| Fedora 34 clang | SKIPPED | PASS | SKIPPED |
+---------------------+----------------------+--------------------+-------------------+
Windows Server 2019
Kernel: 10.0
Compiler: clang 9.0 and gcc 8.1.0 (MinGW)
Fedora 31
Kernel: 4.18.0-240.10.1.el8_3.x86_64
Compiler: gcc 9.3.1
FreeBSD 13
Kernel: 13.0
Compiler: clang 11.0.1
Fedora 32
Kernel: 4.18.0-240.10.1.el8_3.x86_64
Compiler: gcc 10.2.1
openSUSE Leap 15
Kernel: 4.18.0-240.10.1.el8_3.x86_64
Compiler: gcc 7.5.0
CentOS Stream 8
Kernel: 4.18.0-240.10.1.el8_3.x86_64
Compiler: gcc 8.4.1 20200928
RHEL8
Kernel: 4.18.0-240.10.1.el8_3.x86_64
Compiler: gcc 8.3.1 20191121 (Red Hat 8.3.1-5)
RHEL 7
Kernel: 4.18.0-240.10.1.el8_3.x86_64
Compiler: gcc 4.8.5 20150623 (Red Hat 4.8.5-44)
Ubuntu 18.04
Kernel: 4.18.0-240.10.1.el8_3.x86_64
Compiler: gcc 7.5.0-3ubuntu1~18.04
CentOS 8
Kernel: 4.18.0-240.10.1.el8_3.x86_64
Compiler: gcc 8.3.1 20191121 (Red Hat 8.3.1-5)
Fedora 34
Kernel: 5.4.0-72-generic
Compiler: gcc 11.1.1 20210428 (Red Hat 11.1.1-1)
Arch Linux
Kernel: 5.4.0-73-generic
Compiler: gcc 11.1.0
Fedora 33
Kernel: 5.4.0-72-generic
Compiler: gcc 10.3.1 20210422 (Red Hat 10.3.1-1)
Ubuntu 20.04
Kernel: 4.18.0-240.10.1.el8_3.x86_64
Compiler: gcc 9.3.0-17ubuntu1~20.04
Alpine
Kernel: 5.4.0-73-generic
Compiler: gcc (Alpine 10.3.1_git20210424) 10.3.1 20210424
Fedora 34 clang
Kernel: 5.4.0-72-generic
Compiler: clang 12.0.0 (Fedora 12.0.0-0.3.rc1.fc34)
To view detailed results, visit:
https://lab.dpdk.org/results/dashboard/patchsets/19376/
UNH-IOL DPDK Community Lab
To manage your email subscriptions, visit:
https://lab.dpdk.org/results/dashboard/preferences/subscriptions/
More information about the test-report
mailing list