[dpdk-test-report] |SUCCESS| pw101037 [PATCH] [v2] doc: update machine meson option in prog guide
dpdklab at iol.unh.edu
dpdklab at iol.unh.edu
Tue Oct 19 19:02:06 CEST 2021
Test-Label: iol-testing
Test-Status: SUCCESS
http://dpdk.org/patch/101037
_Testing PASS_
Submitter: Juraj Linkeš <juraj.linkes at pantheon.tech>
Date: Monday, October 11 2021 13:42:27
DPDK git baseline: Repo:dpdk
Branch: master
CommitID:515d20195b17444262a5732831c0615146c7189c
101037 --> testing pass
Test environment and result as below:
+------------------------------------+--------------------+----------------------+-------------------+----------------+
| Environment | dpdk_meson_compile | dpdk_mingw64_compile | dpdk_compile_spdk | dpdk_unit_test |
+====================================+====================+======================+===================+================+
| FreeBSD 13 | PASS | SKIPPED | SKIPPED | SKIPPED |
+------------------------------------+--------------------+----------------------+-------------------+----------------+
| FreeBSD 11.2 | PASS | SKIPPED | SKIPPED | SKIPPED |
+------------------------------------+--------------------+----------------------+-------------------+----------------+
| Fedora 31 | PASS | SKIPPED | SKIPPED | PASS |
+------------------------------------+--------------------+----------------------+-------------------+----------------+
| Windows Server 2019 | PASS | PASS | SKIPPED | SKIPPED |
+------------------------------------+--------------------+----------------------+-------------------+----------------+
| openSUSE Leap 15 | PASS | SKIPPED | SKIPPED | PASS |
+------------------------------------+--------------------+----------------------+-------------------+----------------+
| Ubuntu 18.04 | PASS | SKIPPED | PASS | PASS |
+------------------------------------+--------------------+----------------------+-------------------+----------------+
| CentOS 8 | PASS | SKIPPED | SKIPPED | PASS |
+------------------------------------+--------------------+----------------------+-------------------+----------------+
| Fedora 32 | PASS | SKIPPED | SKIPPED | PASS |
+------------------------------------+--------------------+----------------------+-------------------+----------------+
| CentOS Stream 8 | PASS | SKIPPED | SKIPPED | PASS |
+------------------------------------+--------------------+----------------------+-------------------+----------------+
| Ubuntu 20.04 | PASS | SKIPPED | SKIPPED | PASS |
+------------------------------------+--------------------+----------------------+-------------------+----------------+
| RHEL 7 | PASS | SKIPPED | SKIPPED | PASS |
+------------------------------------+--------------------+----------------------+-------------------+----------------+
| Ubuntu 20.04 ARM cross-compilation | PASS | SKIPPED | SKIPPED | SKIPPED |
+------------------------------------+--------------------+----------------------+-------------------+----------------+
| Arch Linux | PASS | SKIPPED | SKIPPED | PASS |
+------------------------------------+--------------------+----------------------+-------------------+----------------+
| RHEL8 | PASS | SKIPPED | SKIPPED | PASS |
+------------------------------------+--------------------+----------------------+-------------------+----------------+
| Alpine | PASS | SKIPPED | SKIPPED | SKIPPED |
+------------------------------------+--------------------+----------------------+-------------------+----------------+
| Fedora 34 | PASS | SKIPPED | SKIPPED | PASS |
+------------------------------------+--------------------+----------------------+-------------------+----------------+
| Fedora 33 | PASS | SKIPPED | SKIPPED | PASS |
+------------------------------------+--------------------+----------------------+-------------------+----------------+
| Fedora 34 clang | PASS | SKIPPED | SKIPPED | PASS |
+------------------------------------+--------------------+----------------------+-------------------+----------------+
| Ubuntu 20.04 ARM | PASS | SKIPPED | SKIPPED | PASS |
+------------------------------------+--------------------+----------------------+-------------------+----------------+
FreeBSD 13
Kernel: 13.0
Compiler: clang 11.0.1
FreeBSD 11.2
Kernel: 11.2
Compiler: gcc 8.3
Fedora 31
Kernel: 4.18.0-240.10.1.el8_3.x86_64
Compiler: gcc 9.3.1
Windows Server 2019
Kernel: 10.0
Compiler: clang 9.0 and gcc 8.1.0 (MinGW)
openSUSE Leap 15
Kernel: 4.18.0-240.10.1.el8_3.x86_64
Compiler: gcc 7.5.0
Ubuntu 18.04
Kernel: 4.18.0-240.10.1.el8_3.x86_64
Compiler: gcc 7.5.0-3ubuntu1~18.04
CentOS 8
Kernel: 4.18.0-240.10.1.el8_3.x86_64
Compiler: gcc 8.3.1 20191121 (Red Hat 8.3.1-5)
Fedora 32
Kernel: 4.18.0-240.10.1.el8_3.x86_64
Compiler: gcc 10.2.1
CentOS Stream 8
Kernel: 4.18.0-240.10.1.el8_3.x86_64
Compiler: gcc 8.4.1 20200928
Ubuntu 20.04
Kernel: 4.18.0-240.10.1.el8_3.x86_64
Compiler: gcc 9.3.0-17ubuntu1~20.04
RHEL 7
Kernel: 4.18.0-240.10.1.el8_3.x86_64
Compiler: gcc 4.8.5 20150623 (Red Hat 4.8.5-44)
Ubuntu 20.04 ARM cross-compilation
Kernel: 5.4.0-72-generic
Compiler: aarch64-linux-gnu-gcc (Ubuntu 9.3.0-17ubuntu1~20.04) 9.3.0
Arch Linux
Kernel: 5.4.0-73-generic
Compiler: gcc 11.1.0
RHEL8
Kernel: 4.18.0-240.10.1.el8_3.x86_64
Compiler: gcc 8.3.1 20191121 (Red Hat 8.3.1-5)
Alpine
Kernel: 5.4.0-73-generic
Compiler: gcc (Alpine 10.3.1_git20210424) 10.3.1 20210424
Fedora 34
Kernel: 5.4.0-72-generic
Compiler: gcc 11.1.1 20210428 (Red Hat 11.1.1-1)
Fedora 33
Kernel: 5.4.0-72-generic
Compiler: gcc 10.3.1 20210422 (Red Hat 10.3.1-1)
Fedora 34 clang
Kernel: 5.4.0-72-generic
Compiler: clang 12.0.0 (Fedora 12.0.0-0.3.rc1.fc34)
Ubuntu 20.04 ARM
Kernel: 5.4.0-53-generic
Compiler: gcc 9.3
To view detailed results, visit:
https://lab.dpdk.org/results/dashboard/patchsets/19302/
UNH-IOL DPDK Community Lab
To manage your email subscriptions, visit:
https://lab.dpdk.org/results/dashboard/preferences/subscriptions/
More information about the test-report
mailing list