[dpdk-test-report] |SUCCESS| pw97579 [PATCH] [v3] net/ice/base: get PF ID of VF's parent
dpdklab at iol.unh.edu
dpdklab at iol.unh.edu
Wed Sep 1 20:31:45 CEST 2021
Test-Label: iol-x86_64-compile-testing
Test-Status: SUCCESS
http://dpdk.org/patch/97579
_Testing PASS_
Submitter: Yu, DapengX <dapengx.yu at intel.com>
Date: Tuesday, August 31 2021 07:03:33
DPDK git baseline: Repo:dpdk
Branch: master
CommitID:eeedef704c11bd74c367d62838700bdb8e5b573f
97579 --> testing pass
Test environment and result as below:
+---------------------+-------------------+--------------------+----------------------+
| Environment | dpdk_compile_spdk | dpdk_meson_compile | dpdk_mingw64_compile |
+=====================+===================+====================+======================+
| Ubuntu 18.04 | PASS | PASS | SKIPPED |
+---------------------+-------------------+--------------------+----------------------+
| Windows Server 2019 | SKIPPED | PASS | PASS |
+---------------------+-------------------+--------------------+----------------------+
| openSUSE Leap 15 | SKIPPED | PASS | SKIPPED |
+---------------------+-------------------+--------------------+----------------------+
| Fedora 31 | SKIPPED | PASS | SKIPPED |
+---------------------+-------------------+--------------------+----------------------+
| FreeBSD 13 | SKIPPED | PASS | SKIPPED |
+---------------------+-------------------+--------------------+----------------------+
| CentOS 8 | SKIPPED | PASS | SKIPPED |
+---------------------+-------------------+--------------------+----------------------+
| Fedora 32 | SKIPPED | PASS | SKIPPED |
+---------------------+-------------------+--------------------+----------------------+
| Ubuntu 20.04 | SKIPPED | PASS | SKIPPED |
+---------------------+-------------------+--------------------+----------------------+
| RHEL 7 | SKIPPED | PASS | SKIPPED |
+---------------------+-------------------+--------------------+----------------------+
| Arch Linux | SKIPPED | PASS | SKIPPED |
+---------------------+-------------------+--------------------+----------------------+
| Fedora 34 | SKIPPED | PASS | SKIPPED |
+---------------------+-------------------+--------------------+----------------------+
| Fedora 33 | SKIPPED | PASS | SKIPPED |
+---------------------+-------------------+--------------------+----------------------+
| Alpine | SKIPPED | PASS | SKIPPED |
+---------------------+-------------------+--------------------+----------------------+
| RHEL8 | SKIPPED | PASS | SKIPPED |
+---------------------+-------------------+--------------------+----------------------+
| CentOS Stream 8 | SKIPPED | PASS | SKIPPED |
+---------------------+-------------------+--------------------+----------------------+
| Fedora 34 clang | SKIPPED | PASS | SKIPPED |
+---------------------+-------------------+--------------------+----------------------+
Ubuntu 18.04
Kernel: 4.18.0-240.10.1.el8_3.x86_64
Compiler: gcc 7.5.0-3ubuntu1~18.04
Windows Server 2019
Kernel: 10.0
Compiler: clang 9.0 and gcc 8.1.0 (MinGW)
openSUSE Leap 15
Kernel: 4.18.0-240.10.1.el8_3.x86_64
Compiler: gcc 7.5.0
Fedora 31
Kernel: 4.18.0-240.10.1.el8_3.x86_64
Compiler: gcc 9.3.1
FreeBSD 13
Kernel: 13.0
Compiler: clang 11.0.1
CentOS 8
Kernel: 4.18.0-240.10.1.el8_3.x86_64
Compiler: gcc 8.3.1 20191121 (Red Hat 8.3.1-5)
Fedora 32
Kernel: 4.18.0-240.10.1.el8_3.x86_64
Compiler: gcc 10.2.1
Ubuntu 20.04
Kernel: 4.18.0-240.10.1.el8_3.x86_64
Compiler: gcc 9.3.0-17ubuntu1~20.04
RHEL 7
Kernel: 4.18.0-240.10.1.el8_3.x86_64
Compiler: gcc 4.8.5 20150623 (Red Hat 4.8.5-44)
Arch Linux
Kernel: 5.4.0-73-generic
Compiler: gcc 11.1.0
Fedora 34
Kernel: 5.4.0-72-generic
Compiler: gcc 11.1.1 20210428 (Red Hat 11.1.1-1)
Fedora 33
Kernel: 5.4.0-72-generic
Compiler: gcc 10.3.1 20210422 (Red Hat 10.3.1-1)
Alpine
Kernel: 5.4.0-73-generic
Compiler: gcc (Alpine 10.3.1_git20210424) 10.3.1 20210424
RHEL8
Kernel: 4.18.0-240.10.1.el8_3.x86_64
Compiler: gcc 8.3.1 20191121 (Red Hat 8.3.1-5)
CentOS Stream 8
Kernel: 4.18.0-240.10.1.el8_3.x86_64
Compiler: gcc 8.4.1 20200928
Fedora 34 clang
Kernel: 5.4.0-72-generic
Compiler: clang 12.0.0 (Fedora 12.0.0-0.3.rc1.fc34)
To view detailed results, visit:
https://lab.dpdk.org/results/dashboard/patchsets/18436/
UNH-IOL DPDK Community Lab
To manage your email subscriptions, visit:
https://lab.dpdk.org/results/dashboard/preferences/subscriptions/
More information about the test-report
mailing list