[dpdk-test-report] |SUCCESS| [GIT MASTER] a23cf289721709819c88d9181df505320fa2e09e
dpdklab at iol.unh.edu
dpdklab at iol.unh.edu
Mon Sep 6 07:51:34 CEST 2021
_Testing PASS_
Branch: dpdk-next-net
a23cf289721709819c88d9181df505320fa2e09e --> testing pass
Test environment and result as below:
+---------------------+----------------------+-------------------+--------------------+
| Environment | dpdk_mingw64_compile | dpdk_compile_spdk | dpdk_meson_compile |
+=====================+======================+===================+====================+
| Windows Server 2019 | PASS | SKIPPED | PASS |
+---------------------+----------------------+-------------------+--------------------+
| Ubuntu 18.04 | SKIPPED | PASS | PASS |
+---------------------+----------------------+-------------------+--------------------+
| FreeBSD 13 | SKIPPED | SKIPPED | PASS |
+---------------------+----------------------+-------------------+--------------------+
| Fedora 31 | SKIPPED | SKIPPED | PASS |
+---------------------+----------------------+-------------------+--------------------+
| CentOS 8 | SKIPPED | SKIPPED | PASS |
+---------------------+----------------------+-------------------+--------------------+
| CentOS Stream 8 | SKIPPED | SKIPPED | PASS |
+---------------------+----------------------+-------------------+--------------------+
| openSUSE Leap 15 | SKIPPED | SKIPPED | PASS |
+---------------------+----------------------+-------------------+--------------------+
| Fedora 32 | SKIPPED | SKIPPED | PASS |
+---------------------+----------------------+-------------------+--------------------+
| Ubuntu 20.04 | SKIPPED | SKIPPED | PASS |
+---------------------+----------------------+-------------------+--------------------+
| RHEL 7 | SKIPPED | SKIPPED | PASS |
+---------------------+----------------------+-------------------+--------------------+
| Arch Linux | SKIPPED | SKIPPED | PASS |
+---------------------+----------------------+-------------------+--------------------+
| RHEL8 | SKIPPED | SKIPPED | PASS |
+---------------------+----------------------+-------------------+--------------------+
| Fedora 34 | SKIPPED | SKIPPED | PASS |
+---------------------+----------------------+-------------------+--------------------+
| Fedora 33 | SKIPPED | SKIPPED | PASS |
+---------------------+----------------------+-------------------+--------------------+
| Alpine | SKIPPED | SKIPPED | PASS |
+---------------------+----------------------+-------------------+--------------------+
| Fedora 34 clang | SKIPPED | SKIPPED | PASS |
+---------------------+----------------------+-------------------+--------------------+
Windows Server 2019
Kernel: 10.0
Compiler: clang 9.0 and gcc 8.1.0 (MinGW)
Ubuntu 18.04
Kernel: 4.18.0-240.10.1.el8_3.x86_64
Compiler: gcc 7.5.0-3ubuntu1~18.04
FreeBSD 13
Kernel: 13.0
Compiler: clang 11.0.1
Fedora 31
Kernel: 4.18.0-240.10.1.el8_3.x86_64
Compiler: gcc 9.3.1
CentOS 8
Kernel: 4.18.0-240.10.1.el8_3.x86_64
Compiler: gcc 8.3.1 20191121 (Red Hat 8.3.1-5)
CentOS Stream 8
Kernel: 4.18.0-240.10.1.el8_3.x86_64
Compiler: gcc 8.4.1 20200928
openSUSE Leap 15
Kernel: 4.18.0-240.10.1.el8_3.x86_64
Compiler: gcc 7.5.0
Fedora 32
Kernel: 4.18.0-240.10.1.el8_3.x86_64
Compiler: gcc 10.2.1
Ubuntu 20.04
Kernel: 4.18.0-240.10.1.el8_3.x86_64
Compiler: gcc 9.3.0-17ubuntu1~20.04
RHEL 7
Kernel: 4.18.0-240.10.1.el8_3.x86_64
Compiler: gcc 4.8.5 20150623 (Red Hat 4.8.5-44)
Arch Linux
Kernel: 5.4.0-73-generic
Compiler: gcc 11.1.0
RHEL8
Kernel: 4.18.0-240.10.1.el8_3.x86_64
Compiler: gcc 8.3.1 20191121 (Red Hat 8.3.1-5)
Fedora 34
Kernel: 5.4.0-72-generic
Compiler: gcc 11.1.1 20210428 (Red Hat 11.1.1-1)
Fedora 33
Kernel: 5.4.0-72-generic
Compiler: gcc 10.3.1 20210422 (Red Hat 10.3.1-1)
Alpine
Kernel: 5.4.0-73-generic
Compiler: gcc (Alpine 10.3.1_git20210424) 10.3.1 20210424
Fedora 34 clang
Kernel: 5.4.0-72-generic
Compiler: clang 12.0.0 (Fedora 12.0.0-0.3.rc1.fc34)
To view detailed results, visit:
https://lab.dpdk.org/results/dashboard/tarballs/16604/
UNH-IOL DPDK Community Lab
To manage your email subscriptions, visit:
https://lab.dpdk.org/results/dashboard/preferences/subscriptions/
More information about the test-report
mailing list