|SUCCESS| pw115029-115098 [PATCH] [v2, 70/70] net/ice/base: update copyright
dpdklab at iol.unh.edu
dpdklab at iol.unh.edu
Mon Aug 15 15:35:57 CEST 2022
Test-Label: iol-aarch64-unit-testing
Test-Status: SUCCESS
http://dpdk.org/patch/115098
_Testing PASS_
Submitter: Qi Zhang <qi.z.zhang at intel.com>
Date: Monday, August 15 2022 07:32:06
DPDK git baseline: Repo:dpdk
Branch: master
CommitID:72206323a5dd3182b13f61b25a64abdddfee595c
115029-115098 --> testing pass
Test environment and result as below:
+-------------------------------+--------------+----------------+
| Environment | lpm_autotest | dpdk_unit_test |
+===============================+==============+================+
| Ubuntu 20.04 ARM SVE | PASS | SKIPPED |
+-------------------------------+--------------+----------------+
| Ubuntu 20.04 ARM GCC Native | SKIPPED | PASS |
+-------------------------------+--------------+----------------+
| Ubuntu 20.04 ARM Clang Native | SKIPPED | PASS |
+-------------------------------+--------------+----------------+
Ubuntu 20.04 ARM SVE
Kernel: 5.4.0-80-generic
Compiler: gcc 10.3.0 (Ubuntu 10.3.0-1ubuntu1~20.04)
Ubuntu 20.04 ARM GCC Native
Kernel: 5.4.0-53-generic
Compiler: gcc 9.3
Ubuntu 20.04 ARM Clang Native
Kernel: 5.4.0-53-generic
Compiler: clang 10.0.0-4ubuntu1
To view detailed results, visit:
https://lab.dpdk.org/results/dashboard/patchsets/23231/
UNH-IOL DPDK Community Lab
To manage your email subscriptions, visit:
https://lab.dpdk.org/results/dashboard/preferences/subscriptions/
More information about the test-report
mailing list