|SUCCESS| pw120413-120414 [PATCH] [v3, 2/2] build: generate Windows build artefacts when needed

dpdklab at iol.unh.edu dpdklab at iol.unh.edu
Thu Dec 1 12:00:15 CET 2022


Test-Label: iol-aarch64-unit-testing
Test-Status: SUCCESS
http://dpdk.org/patch/120414

_Testing PASS_

Submitter: David Marchand <david.marchand at redhat.com>
Date: Thursday, December 01 2022 10:08:47 
DPDK git baseline: Repo:dpdk
  Branch: master
  CommitID:f262f16087ea6a77357a915cf4c0d10ddc7b6562

120413-120414 --> testing pass

Test environment and result as below:

+-------------------------------+--------------+----------------+
|          Environment          | lpm_autotest | dpdk_unit_test |
+===============================+==============+================+
| Ubuntu 20.04 ARM SVE          | PASS         | SKIPPED        |
+-------------------------------+--------------+----------------+
| Ubuntu 20.04 ARM GCC Native   | SKIPPED      | PASS           |
+-------------------------------+--------------+----------------+
| Ubuntu 20.04 ARM Clang Native | SKIPPED      | PASS           |
+-------------------------------+--------------+----------------+


Ubuntu 20.04 ARM SVE
	Kernel: 5.4.0-80-generic
	Compiler: gcc 10.3.0 (Ubuntu 10.3.0-1ubuntu1~20.04)

Ubuntu 20.04 ARM GCC Native
	Kernel: 5.4.0-53-generic
	Compiler: gcc 9.3

Ubuntu 20.04 ARM Clang Native
	Kernel: 5.4.0-53-generic
	Compiler: clang 10.0.0-4ubuntu1

To view detailed results, visit:
https://lab.dpdk.org/results/dashboard/patchsets/24617/

UNH-IOL DPDK Community Lab

To manage your email subscriptions, visit: 
https://lab.dpdk.org/results/dashboard/preferences/subscriptions/


More information about the test-report mailing list