|SUCCESS| [GIT MASTER] abfe2cb0b40b3ceeb44df642c9d28a06bdfc9fb4
dpdklab at iol.unh.edu
dpdklab at iol.unh.edu
Thu Dec 1 13:16:11 CET 2022
_Testing PASS_
Branch: tags/v20.11
abfe2cb0b40b3ceeb44df642c9d28a06bdfc9fb4 --> testing pass
Test environment and result as below:
+------------------------------------+--------------------+----------------+
| Environment | dpdk_meson_compile | dpdk_unit_test |
+====================================+====================+================+
| Ubuntu 20.04 ARM GCC Native | PASS | PASS |
+------------------------------------+--------------------+----------------+
| Ubuntu 20.04 ARM Clang Native | PASS | PASS |
+------------------------------------+--------------------+----------------+
| Ubuntu 20.04 ARM GCC Cross Compile | PASS | SKIPPED |
+------------------------------------+--------------------+----------------+
| Ubuntu 20.04 ARM SVE | PASS | SKIPPED |
+------------------------------------+--------------------+----------------+
| CentOS Stream 8 | SKIPPED | PASS |
+------------------------------------+--------------------+----------------+
| CentOS Stream 9 | SKIPPED | PASS |
+------------------------------------+--------------------+----------------+
| Debian Buster | SKIPPED | PASS |
+------------------------------------+--------------------+----------------+
| Debian Bullseye | SKIPPED | PASS |
+------------------------------------+--------------------+----------------+
| Ubuntu 22.04 | SKIPPED | PASS |
+------------------------------------+--------------------+----------------+
Ubuntu 20.04 ARM GCC Native
Kernel: 5.4.0-53-generic
Compiler: gcc 9.3
Ubuntu 20.04 ARM Clang Native
Kernel: 5.4.0-53-generic
Compiler: clang 10.0.0-4ubuntu1
Ubuntu 20.04 ARM GCC Cross Compile
Kernel: 5.4.0-72-generic
Compiler: aarch64-linux-gnu-gcc (Ubuntu 9.3.0-17ubuntu1~20.04) 9.3.0
Ubuntu 20.04 ARM SVE
Kernel: 5.4.0-80-generic
Compiler: gcc 10.3.0 (Ubuntu 10.3.0-1ubuntu1~20.04)
CentOS Stream 8
Kernel: 4.18.0-240.10.1.el8_3.x86_64
Compiler: gcc 8.4.1 20200928
CentOS Stream 9
Kernel: 4.18.0-240.10.1.el8_3.x86_64
Compiler: gcc 11.3.1 20220421
Debian Buster
Kernel: 5.4.0-122-generic
Compiler: gcc 8.3.0-6
Debian Bullseye
Kernel: 5.4.0-122-generic
Compiler: gcc 10.2.1-6
Ubuntu 22.04
Kernel: Container Host Kernel
Compiler: gcc 11.3.1-2
To view detailed results, visit:
https://lab.dpdk.org/results/dashboard/tarballs/22474/
UNH-IOL DPDK Community Lab
To manage your email subscriptions, visit:
https://lab.dpdk.org/results/dashboard/preferences/subscriptions/
More information about the test-report
mailing list