|SUCCESS| pw120413-120414 [PATCH] [v3, 2/2] build: generate Windows build artefacts when needed

dpdklab at iol.unh.edu dpdklab at iol.unh.edu
Sat Dec 3 03:25:31 CET 2022


Test-Label: iol-testing
Test-Status: SUCCESS
http://dpdk.org/patch/120414

_Testing PASS_

Submitter: David Marchand <david.marchand at redhat.com>
Date: Thursday, December 01 2022 10:08:47 
DPDK git baseline: Repo:dpdk
  Branch: master
  CommitID:f262f16087ea6a77357a915cf4c0d10ddc7b6562

120413-120414 --> testing pass

Test environment and result as below:

+----------------------------------------+--------------------+----------------+
|              Environment               | dpdk_meson_compile | dpdk_unit_test |
+========================================+====================+================+
| Ubuntu 20.04 aarch32 GCC Cross Compile | PASS               | SKIPPED        |
+----------------------------------------+--------------------+----------------+
| Ubuntu 20.04 ARM Clang Native          | PASS               | PASS           |
+----------------------------------------+--------------------+----------------+
| Ubuntu 20.04 ARM GCC Native            | PASS               | PASS           |
+----------------------------------------+--------------------+----------------+
| Ubuntu 20.04 ARM Clang Cross Compile   | PASS               | SKIPPED        |
+----------------------------------------+--------------------+----------------+
| Ubuntu 20.04 ARM GCC Cross Compile     | PASS               | SKIPPED        |
+----------------------------------------+--------------------+----------------+
| Ubuntu 20.04 ARM SVE                   | PASS               | SKIPPED        |
+----------------------------------------+--------------------+----------------+
| Windows Server 2019                    | SKIPPED            | PASS           |
+----------------------------------------+--------------------+----------------+
| Ubuntu 22.04                           | SKIPPED            | PASS           |
+----------------------------------------+--------------------+----------------+
| RHEL 7                                 | SKIPPED            | PASS           |
+----------------------------------------+--------------------+----------------+
| CentOS Stream 8                        | SKIPPED            | PASS           |
+----------------------------------------+--------------------+----------------+
| Debian Bullseye                        | SKIPPED            | PASS           |
+----------------------------------------+--------------------+----------------+
| RHEL8                                  | SKIPPED            | PASS           |
+----------------------------------------+--------------------+----------------+
| Debian Buster                          | SKIPPED            | PASS           |
+----------------------------------------+--------------------+----------------+


Ubuntu 20.04 aarch32 GCC Cross Compile
	Kernel: 5.4.0-72-generic
	Compiler: gcc 9.3.0

Ubuntu 20.04 ARM Clang Native
	Kernel: 5.4.0-53-generic
	Compiler: clang 10.0.0-4ubuntu1

Ubuntu 20.04 ARM GCC Native
	Kernel: 5.4.0-53-generic
	Compiler: gcc 9.3

Ubuntu 20.04 ARM Clang Cross Compile
	Kernel: 5.4.0-72-generic
	Compiler: clang version 10.0.0-4ubuntu1

Ubuntu 20.04 ARM GCC Cross Compile
	Kernel: 5.4.0-72-generic
	Compiler: aarch64-linux-gnu-gcc (Ubuntu 9.3.0-17ubuntu1~20.04) 9.3.0

Ubuntu 20.04 ARM SVE
	Kernel: 5.4.0-80-generic
	Compiler: gcc 10.3.0 (Ubuntu 10.3.0-1ubuntu1~20.04)

Windows Server 2019
	Kernel: 10.0
	Compiler: clang 14.0 and gcc 8.1.0 (MinGW)

Ubuntu 22.04
	Kernel: 4.18.0-240.10.1.el8_3.x86_64
	Compiler: gcc 11.3.0

RHEL 7
	Kernel: 4.18.0-240.10.1.el8_3.x86_64
	Compiler: gcc 4.8.5 20150623 (Red Hat 4.8.5-44)

CentOS Stream 8
	Kernel: 4.18.0-240.10.1.el8_3.x86_64
	Compiler: gcc 8.4.1 20200928

Debian Bullseye
	Kernel: 5.4.0-122-generic
	Compiler: gcc 10.2.1-6

RHEL8
	Kernel: 4.18.0-240.10.1.el8_3.x86_64
	Compiler: gcc 8.3.1 20191121 (Red Hat 8.3.1-5)

Debian Buster
	Kernel: 5.4.0-122-generic
	Compiler: gcc 8.3.0-6

To view detailed results, visit:
https://lab.dpdk.org/results/dashboard/patchsets/24617/

UNH-IOL DPDK Community Lab

To manage your email subscriptions, visit: 
https://lab.dpdk.org/results/dashboard/preferences/subscriptions/


More information about the test-report mailing list