|SUCCESS| [GIT MASTER] 655f0ed4a75b2ed17a56c3665be32b06323647f9

dpdklab at iol.unh.edu dpdklab at iol.unh.edu
Sat Dec 3 18:14:26 CET 2022


_Testing PASS_

Branch: tags/v21.11

655f0ed4a75b2ed17a56c3665be32b06323647f9 --> testing pass

Test environment and result as below:

+------------------------------------+----------------+--------------------+
|            Environment             | dpdk_unit_test | dpdk_meson_compile |
+====================================+================+====================+
| Ubuntu 20.04 ARM Clang Native      | PASS           | PASS               |
+------------------------------------+----------------+--------------------+
| Ubuntu 20.04 ARM GCC Native        | PASS           | PASS               |
+------------------------------------+----------------+--------------------+
| Windows Server 2019                | PASS           | SKIPPED            |
+------------------------------------+----------------+--------------------+
| CentOS Stream 8                    | PASS           | SKIPPED            |
+------------------------------------+----------------+--------------------+
| Ubuntu 20.04                       | PASS           | SKIPPED            |
+------------------------------------+----------------+--------------------+
| Debian Buster                      | PASS           | SKIPPED            |
+------------------------------------+----------------+--------------------+
| Ubuntu 20.04 ARM GCC Cross Compile | SKIPPED        | PASS               |
+------------------------------------+----------------+--------------------+
| Ubuntu 20.04 ARM SVE               | SKIPPED        | PASS               |
+------------------------------------+----------------+--------------------+


Ubuntu 20.04 ARM Clang Native
	Kernel: 5.4.0-53-generic
	Compiler: clang 10.0.0-4ubuntu1

Ubuntu 20.04 ARM GCC Native
	Kernel: 5.4.0-53-generic
	Compiler: gcc 9.3

Windows Server 2019
	Kernel: 10.0
	Compiler: clang 14.0 and gcc 8.1.0 (MinGW)

CentOS Stream 8
	Kernel: 4.18.0-240.10.1.el8_3.x86_64
	Compiler: gcc 8.4.1 20200928

Ubuntu 20.04
	Kernel: 4.18.0-240.10.1.el8_3.x86_64
	Compiler: gcc 9.3.0-17ubuntu1~20.04

Debian Buster
	Kernel: 5.4.0-122-generic
	Compiler: gcc 8.3.0-6

Ubuntu 20.04 ARM GCC Cross Compile
	Kernel: 5.4.0-72-generic
	Compiler: aarch64-linux-gnu-gcc (Ubuntu 9.3.0-17ubuntu1~20.04) 9.3.0

Ubuntu 20.04 ARM SVE
	Kernel: 5.4.0-80-generic
	Compiler: gcc 10.3.0 (Ubuntu 10.3.0-1ubuntu1~20.04)

To view detailed results, visit:
https://lab.dpdk.org/results/dashboard/tarballs/22517/

UNH-IOL DPDK Community Lab

To manage your email subscriptions, visit: 
https://lab.dpdk.org/results/dashboard/preferences/subscriptions/


More information about the test-report mailing list