|SUCCESS| pw120571-120575 [PATCH] [8/8] ethdev: telemetry convert capability related variable to hex

dpdklab at iol.unh.edu dpdklab at iol.unh.edu
Thu Dec 8 10:48:02 CET 2022


Test-Label: iol-testing
Test-Status: SUCCESS
http://dpdk.org/patch/120575

_Testing PASS_

Submitter: Huisong Li <lihuisong at huawei.com>
Date: Thursday, December 08 2022 08:05:40 
DPDK git baseline: Repo:dpdk
  Branch: master
  CommitID:6c8aed5ab7f6dbed8e71199504fa227f5f60c6fd

120571-120575 --> testing pass

Test environment and result as below:

+-------------------------------+--------------------+----------------+----------------------+
|          Environment          | dpdk_meson_compile | dpdk_unit_test | dpdk_mingw64_compile |
+===============================+====================+================+======================+
| Windows Server 2019           | PASS               | PASS           | PASS                 |
+-------------------------------+--------------------+----------------+----------------------+
| FreeBSD 13                    | PASS               | SKIPPED        | SKIPPED              |
+-------------------------------+--------------------+----------------+----------------------+
| Ubuntu 20.04 ARM GCC Native   | PASS               | PASS           | SKIPPED              |
+-------------------------------+--------------------+----------------+----------------------+
| Ubuntu 20.04 ARM Clang Native | PASS               | PASS           | SKIPPED              |
+-------------------------------+--------------------+----------------+----------------------+
| CentOS Stream 8               | PASS               | SKIPPED        | SKIPPED              |
+-------------------------------+--------------------+----------------+----------------------+
| RHEL 7                        | PASS               | SKIPPED        | SKIPPED              |
+-------------------------------+--------------------+----------------+----------------------+
| Debian Buster                 | PASS               | SKIPPED        | SKIPPED              |
+-------------------------------+--------------------+----------------+----------------------+
| openSUSE Leap 15              | PASS               | SKIPPED        | SKIPPED              |
+-------------------------------+--------------------+----------------+----------------------+
| CentOS Stream 9               | PASS               | SKIPPED        | SKIPPED              |
+-------------------------------+--------------------+----------------+----------------------+
| Debian Bullseye               | SKIPPED            | PASS           | SKIPPED              |
+-------------------------------+--------------------+----------------+----------------------+


Windows Server 2019
	Kernel: 10.0
	Compiler: clang 14.0 and gcc 8.1.0 (MinGW)

FreeBSD 13
	Kernel: 13.0
	Compiler: clang 11.0.1

Ubuntu 20.04 ARM GCC Native
	Kernel: 5.4.0-53-generic
	Compiler: gcc 9.3

Ubuntu 20.04 ARM Clang Native
	Kernel: 5.4.0-53-generic
	Compiler: clang 10.0.0-4ubuntu1

CentOS Stream 8
	Kernel: 4.18.0-240.10.1.el8_3.x86_64
	Compiler: gcc 8.4.1 20200928

RHEL 7
	Kernel: 4.18.0-240.10.1.el8_3.x86_64
	Compiler: gcc 4.8.5 20150623 (Red Hat 4.8.5-44)

Debian Buster
	Kernel: 5.4.0-122-generic
	Compiler: gcc 8.3.0-6

openSUSE Leap 15
	Kernel: 4.18.0-240.10.1.el8_3.x86_64
	Compiler: gcc 7.5.0

CentOS Stream 9
	Kernel: 4.18.0-240.10.1.el8_3.x86_64
	Compiler: gcc 11.3.1 20220421

Debian Bullseye
	Kernel: 5.4.0-122-generic
	Compiler: gcc 10.2.1-6

To view detailed results, visit:
https://lab.dpdk.org/results/dashboard/patchsets/24672/

UNH-IOL DPDK Community Lab

To manage your email subscriptions, visit: 
https://lab.dpdk.org/results/dashboard/preferences/subscriptions/


More information about the test-report mailing list