|SUCCESS| pw120891 [PATCH] crypto/qat: add SHA3 plain hash support

dpdklab at iol.unh.edu dpdklab at iol.unh.edu
Wed Dec 14 19:46:43 CET 2022


Test-Label: iol-testing
Test-Status: SUCCESS
http://dpdk.org/patch/120891

_Testing PASS_

Submitter: Ciara Power <ciara.power at intel.com>
Date: Wednesday, December 14 2022 16:26:42 
DPDK git baseline: Repo:dpdk
  Branch: master
  CommitID:c581c49cd3fcaff596fbe566e270b442e6326c79

120891 --> testing pass

Test environment and result as below:

+-------------------------------+--------------------+----------------------+----------------+
|          Environment          | dpdk_meson_compile | dpdk_mingw64_compile | dpdk_unit_test |
+===============================+====================+======================+================+
| FreeBSD 13                    | PASS               | SKIPPED              | SKIPPED        |
+-------------------------------+--------------------+----------------------+----------------+
| Windows Server 2019           | PASS               | PASS                 | PASS           |
+-------------------------------+--------------------+----------------------+----------------+
| Ubuntu 20.04 ARM Clang Native | PASS               | SKIPPED              | PASS           |
+-------------------------------+--------------------+----------------------+----------------+
| Ubuntu 20.04 ARM GCC Native   | PASS               | SKIPPED              | PASS           |
+-------------------------------+--------------------+----------------------+----------------+
| CentOS Stream 8               | PASS               | SKIPPED              | PASS           |
+-------------------------------+--------------------+----------------------+----------------+
| Debian Buster                 | PASS               | SKIPPED              | PASS           |
+-------------------------------+--------------------+----------------------+----------------+


FreeBSD 13
	Kernel: 13.0
	Compiler: clang 11.0.1

Windows Server 2019
	Kernel: 10.0
	Compiler: clang 14.0 and gcc 8.1.0 (MinGW)

Ubuntu 20.04 ARM Clang Native
	Kernel: 5.4.0-53-generic
	Compiler: clang 10.0.0-4ubuntu1

Ubuntu 20.04 ARM GCC Native
	Kernel: 5.4.0-53-generic
	Compiler: gcc 9.3

CentOS Stream 8
	Kernel: 4.18.0-240.10.1.el8_3.x86_64
	Compiler: gcc 8.4.1 20200928

Debian Buster
	Kernel: 5.4.0-122-generic
	Compiler: gcc 8.3.0-6

To view detailed results, visit:
https://lab.dpdk.org/results/dashboard/patchsets/24733/

UNH-IOL DPDK Community Lab

To manage your email subscriptions, visit: 
https://lab.dpdk.org/results/dashboard/preferences/subscriptions/


More information about the test-report mailing list