|SUCCESS| pw121036 [PATCH] net/cnxk: support flow info API

dpdklab at iol.unh.edu dpdklab at iol.unh.edu
Mon Dec 19 15:52:40 CET 2022


Test-Label: iol-aarch64-unit-testing
Test-Status: SUCCESS
http://dpdk.org/patch/121036

_Testing PASS_

Submitter: Satheesh Paul Antonysamy <psatheesh at marvell.com>
Date: Monday, December 19 2022 13:18:25 
DPDK git baseline: Repo:dpdk
  Branch: master
  CommitID:c581c49cd3fcaff596fbe566e270b442e6326c79

121036 --> testing pass

Test environment and result as below:

+-------------------------------+----------------+--------------+
|          Environment          | dpdk_unit_test | lpm_autotest |
+===============================+================+==============+
| Ubuntu 20.04 ARM GCC Native   | PASS           | SKIPPED      |
+-------------------------------+----------------+--------------+
| Ubuntu 20.04 ARM Clang Native | PASS           | SKIPPED      |
+-------------------------------+----------------+--------------+
| Ubuntu 20.04 ARM SVE          | SKIPPED        | PASS         |
+-------------------------------+----------------+--------------+


Ubuntu 20.04 ARM GCC Native
	Kernel: 5.4.0-53-generic
	Compiler: gcc 9.3

Ubuntu 20.04 ARM Clang Native
	Kernel: 5.4.0-53-generic
	Compiler: clang 10.0.0-4ubuntu1

Ubuntu 20.04 ARM SVE
	Kernel: 5.4.0-80-generic
	Compiler: gcc 10.3.0 (Ubuntu 10.3.0-1ubuntu1~20.04)

To view detailed results, visit:
https://lab.dpdk.org/results/dashboard/patchsets/24769/

UNH-IOL DPDK Community Lab

To manage your email subscriptions, visit: 
https://lab.dpdk.org/results/dashboard/preferences/subscriptions/


More information about the test-report mailing list