|SUCCESS| pw121054 [PATCH] app/crypto-perf: fix number of segments

dpdklab at iol.unh.edu dpdklab at iol.unh.edu
Tue Dec 20 08:20:40 CET 2022


Test-Label: iol-testing
Test-Status: SUCCESS
http://dpdk.org/patch/121054

_Testing PASS_

Submitter: Anoob Joseph <anoobj at marvell.com>
Date: Tuesday, December 20 2022 04:55:33 
DPDK git baseline: Repo:dpdk
  Branch: master
  CommitID:c581c49cd3fcaff596fbe566e270b442e6326c79

121054 --> testing pass

Test environment and result as below:

+-------------------------------+----------------+--------------------+----------------------+
|          Environment          | dpdk_unit_test | dpdk_meson_compile | dpdk_mingw64_compile |
+===============================+================+====================+======================+
| Ubuntu 20.04 ARM GCC Native   | PASS           | PASS               | SKIPPED              |
+-------------------------------+----------------+--------------------+----------------------+
| Ubuntu 20.04 ARM Clang Native | PASS           | PASS               | SKIPPED              |
+-------------------------------+----------------+--------------------+----------------------+
| Windows Server 2019           | PASS           | PASS               | PASS                 |
+-------------------------------+----------------+--------------------+----------------------+
| CentOS Stream 9               | PASS           | SKIPPED            | SKIPPED              |
+-------------------------------+----------------+--------------------+----------------------+
| FreeBSD 13                    | SKIPPED        | PASS               | SKIPPED              |
+-------------------------------+----------------+--------------------+----------------------+


Ubuntu 20.04 ARM GCC Native
	Kernel: 5.4.0-53-generic
	Compiler: gcc 9.3

Ubuntu 20.04 ARM Clang Native
	Kernel: 5.4.0-53-generic
	Compiler: clang 10.0.0-4ubuntu1

Windows Server 2019
	Kernel: 10.0
	Compiler: clang 14.0 and gcc 8.1.0 (MinGW)

CentOS Stream 9
	Kernel: 4.18.0-240.10.1.el8_3.x86_64
	Compiler: gcc 11.3.1 20220421

FreeBSD 13
	Kernel: 13.0
	Compiler: clang 11.0.1

To view detailed results, visit:
https://lab.dpdk.org/results/dashboard/patchsets/24778/

UNH-IOL DPDK Community Lab

To manage your email subscriptions, visit: 
https://lab.dpdk.org/results/dashboard/preferences/subscriptions/


More information about the test-report mailing list