|SUCCESS| pw121228 [PATCH] malloc: enhance NUMA affinity heuristic

dpdklab at iol.unh.edu dpdklab at iol.unh.edu
Wed Dec 21 23:34:42 CET 2022


Test-Label: iol-testing
Test-Status: SUCCESS
http://dpdk.org/patch/121228

_Testing PASS_

Submitter: David Marchand <david.marchand at redhat.com>
Date: Wednesday, December 21 2022 10:48:57 
DPDK git baseline: Repo:dpdk
  Branch: master
  CommitID:c581c49cd3fcaff596fbe566e270b442e6326c79

121228 --> testing pass

Test environment and result as below:

+-------------------------------+----------------+--------------------+
|          Environment          | dpdk_unit_test | dpdk_meson_compile |
+===============================+================+====================+
| Ubuntu 20.04 ARM GCC Native   | PASS           | SKIPPED            |
+-------------------------------+----------------+--------------------+
| Ubuntu 20.04 ARM Clang Native | PASS           | SKIPPED            |
+-------------------------------+----------------+--------------------+
| Windows Server 2019           | PASS           | SKIPPED            |
+-------------------------------+----------------+--------------------+
| Ubuntu 22.04                  | PASS           | SKIPPED            |
+-------------------------------+----------------+--------------------+
| openSUSE Leap 15              | PASS           | SKIPPED            |
+-------------------------------+----------------+--------------------+
| RHEL8                         | PASS           | SKIPPED            |
+-------------------------------+----------------+--------------------+
| RHEL 7                        | PASS           | SKIPPED            |
+-------------------------------+----------------+--------------------+
| FreeBSD 13                    | SKIPPED        | PASS               |
+-------------------------------+----------------+--------------------+


Ubuntu 20.04 ARM GCC Native
	Kernel: 5.4.0-53-generic
	Compiler: gcc 9.3

Ubuntu 20.04 ARM Clang Native
	Kernel: 5.4.0-53-generic
	Compiler: clang 10.0.0-4ubuntu1

Windows Server 2019
	Kernel: 10.0
	Compiler: clang 14.0 and gcc 8.1.0 (MinGW)

Ubuntu 22.04
	Kernel: Container Host Kernel
	Compiler: clang 14.0.5-1.fc36

openSUSE Leap 15
	Kernel: 4.18.0-240.10.1.el8_3.x86_64
	Compiler: gcc 7.5.0

RHEL8
	Kernel: 4.18.0-240.10.1.el8_3.x86_64
	Compiler: gcc 8.3.1 20191121 (Red Hat 8.3.1-5)

RHEL 7
	Kernel: 4.18.0-240.10.1.el8_3.x86_64
	Compiler: gcc 4.8.5 20150623 (Red Hat 4.8.5-44)

FreeBSD 13
	Kernel: 13.0
	Compiler: clang 11.0.1

To view detailed results, visit:
https://lab.dpdk.org/results/dashboard/patchsets/24804/

UNH-IOL DPDK Community Lab

To manage your email subscriptions, visit: 
https://lab.dpdk.org/results/dashboard/preferences/subscriptions/


More information about the test-report mailing list